BEGIN:VCALENDAR
VERSION:2.0
PRODID:-//Fun Kids - the UK&#039;s children&#039;s radio station - ECPv6.9.0//NONSGML v1.0//EN
CALSCALE:GREGORIAN
METHOD:PUBLISH
X-WR-CALNAME:Fun Kids - the UK&#039;s children&#039;s radio station
X-ORIGINAL-URL:https://www.funkidslive.com
X-WR-CALDESC:Events for Fun Kids - the UK&#039;s children&#039;s radio station
REFRESH-INTERVAL;VALUE=DURATION:PT1H
X-Robots-Tag:noindex
X-PUBLISHED-TTL:PT1H
BEGIN:VTIMEZONE
TZID:Europe/London
BEGIN:DAYLIGHT
TZOFFSETFROM:+0000
TZOFFSETTO:+0100
TZNAME:BST
DTSTART:20180325T010000
END:DAYLIGHT
BEGIN:STANDARD
TZOFFSETFROM:+0100
TZOFFSETTO:+0000
TZNAME:GMT
DTSTART:20181028T010000
END:STANDARD
END:VTIMEZONE
BEGIN:VEVENT
DTSTART;TZID=Europe/London:20180525T080000
DTEND;TZID=Europe/London:20180527T190000
DTSTAMP:20260421T130526
CREATED:20180518T141827Z
LAST-MODIFIED:20180518T141827Z
UID:1088568-1527235200-1527447600@www.funkidslive.com
SUMMARY:MCM Comic Con is coming to London and you're invited!
DESCRIPTION:MCM Comic Con is a fun filled day out for all the family and they’ve got so much for your little superhero to do when you’re at MCM London this May! \nFriday and Sunday are our quieter days so if you are bringing little ones\, they’re probably the best days to come. \nKids go free to everyone who gets a Priority Entry ticket and applies to all their shows! Here’s the details: \nChildren who are 5 years old or under enter for FREE with a Priority Entry ticket holder and those with General Tickets can bring up to two children age 10 or under with a General Entry ticket holder. \nClick here to find out more about Comic Con! \nWith free face-painting you can transform yourself into Iron Man\, Spiderman\, or Wonder Woman! \nHone those Lightsaber skills with a team of Master Jedi’s who will sharing their skills all weekend to train the family in this exciting new combat sport\, combining elements of traditional martial arts and theatrical expression! \nAnd if you need a pit stop at MCM London Comic Con you can get cosy in the MCM Reading Corner! \nThere’s a load of amazing books to introduce your little ones too and you can get comfy on their massive bean bags! \nClick here to find out more about the KidZone!
URL:https://www.funkidslive.com/event/1088568/
LOCATION:ExCeL London\, Royal Victoria Dock\, 1 Western Gateway\, London\, E16 1XL\, United Kingdom
CATEGORIES:Days Out
GEO:51.5083537;0.0198855
X-APPLE-STRUCTURED-LOCATION;VALUE=URI;X-ADDRESS=ExCeL London Royal Victoria Dock 1 Western Gateway London E16 1XL United Kingdom;X-APPLE-RADIUS=500;X-TITLE=Royal Victoria Dock\, 1 Western Gateway:geo:0.0198855,51.5083537
END:VEVENT
END:VCALENDAR