BEGIN:VCALENDAR
VERSION:2.0
PRODID:-//Fun Kids - the UK&#039;s children&#039;s radio station - ECPv6.9.0//NONSGML v1.0//EN
CALSCALE:GREGORIAN
METHOD:PUBLISH
X-WR-CALNAME:Fun Kids - the UK&#039;s children&#039;s radio station
X-ORIGINAL-URL:https://www.funkidslive.com
X-WR-CALDESC:Events for Fun Kids - the UK&#039;s children&#039;s radio station
REFRESH-INTERVAL;VALUE=DURATION:PT1H
X-Robots-Tag:noindex
X-PUBLISHED-TTL:PT1H
BEGIN:VTIMEZONE
TZID:Europe/London
BEGIN:DAYLIGHT
TZOFFSETFROM:+0000
TZOFFSETTO:+0100
TZNAME:BST
DTSTART:20180325T010000
END:DAYLIGHT
BEGIN:STANDARD
TZOFFSETFROM:+0100
TZOFFSETTO:+0000
TZNAME:GMT
DTSTART:20181028T010000
END:STANDARD
END:VTIMEZONE
BEGIN:VEVENT
DTSTART;VALUE=DATE:20180505
DTEND;VALUE=DATE:20180901
DTSTAMP:20260421T180034
CREATED:20180716T094015Z
LAST-MODIFIED:20180716T094320Z
UID:1089398-1525496400-1535691599@www.funkidslive.com
SUMMARY:Find out more about Anne Boleyn and the Tudors at the Tower of London this summer!
DESCRIPTION:The final days of one of the Tower of London’s most infamous prisoners\, Anne Boleyn\, is being brought to life in a brand new play! \nThe performance is staged on the site of the lost Tudor Palace at the Tower\, where Anne spent her last 17 days. \nIt uses loads of factual information – including her own words from letters to her husband\, Henry VIII and her final speech on the scaffold – to paint an intimate and moving picture of this tragic history\, in the place where it happened. \n \nYou’ll get to see bear witness to the dizzying fall of this extraordinary woman\, who won and lost a king in the space of three years and who continues to exert a powerful fascination nearly five hundred years later! \nClick here to book tickets! \nThis outdoor show runs for about 35 minutes with two performances per day\, one at 11:00 and one at 14:00 from Friday to Tuesday in the shadow of the iconic White Tower! \nBest of all\, your performance included in Tower of London admission ticket!
URL:https://www.funkidslive.com/event/1089398/
LOCATION:Tower of London\, Tower of London\, London\, EC3N 4AB\, United Kingdom
CATEGORIES:Shows
END:VEVENT
END:VCALENDAR