BEGIN:VCALENDAR
VERSION:2.0
PRODID:-//Fun Kids - the UK&#039;s children&#039;s radio station - ECPv6.9.0//NONSGML v1.0//EN
CALSCALE:GREGORIAN
METHOD:PUBLISH
X-WR-CALNAME:Fun Kids - the UK&#039;s children&#039;s radio station
X-ORIGINAL-URL:https://www.funkidslive.com
X-WR-CALDESC:Events for Fun Kids - the UK&#039;s children&#039;s radio station
REFRESH-INTERVAL;VALUE=DURATION:PT1H
X-Robots-Tag:noindex
X-PUBLISHED-TTL:PT1H
BEGIN:VTIMEZONE
TZID:Europe/London
BEGIN:DAYLIGHT
TZOFFSETFROM:+0000
TZOFFSETTO:+0100
TZNAME:BST
DTSTART:20190331T010000
END:DAYLIGHT
BEGIN:STANDARD
TZOFFSETFROM:+0100
TZOFFSETTO:+0000
TZNAME:GMT
DTSTART:20191027T010000
END:STANDARD
END:VTIMEZONE
BEGIN:VEVENT
DTSTART;TZID=Europe/London:20191212T080000
DTEND;TZID=Europe/London:20191224T170000
DTSTAMP:20260421T211605
CREATED:20191204T121914Z
LAST-MODIFIED:20191204T125904Z
UID:1095783-1576137600-1577206800@www.funkidslive.com
SUMMARY:See 'Santa Claus and the Night Before Christmas' This December!
DESCRIPTION:From the producers of last year’s Santa Claus and the Christmas Adventure\, the enchanting Christmas experience returns with a brand new story for all the family to enjoy. Join us this year at Wimbledon Library. \nIt’s Christmas Eve and whilst most children are hanging up their stockings\, there are a few boys and girls who are not! They don’t believe in Santa and\, with Christmas morning fast approaching\, cheeky elves Charlie and Kara must help Santa prove that he is indeed real! With magic tricks\, songs and stories\, can they make them believe before it’s time to board Santa’s sleigh and deliver the presents? \n \nA truly unforgettable experience which includes bubbles and the magical moment when snowflakes fall over the audience\, this interactive show is a must-see over the festive season. \nAs an added Christmas treat\, all of the good boys and girls in the audience will meet Santa after the show and receive a special present of their own. \n \nClick here to book your tickets!
URL:https://www.funkidslive.com/event/a-magical-christmas-experience-with-songs-stories-a-meet-and-greet-with-santa-and-a-free-gift/
LOCATION:New Wimbledon Theatre\, The Broadway\, Wimbledon\, London\, SW19 1QG\, United Kingdom
CATEGORIES:Christmas
END:VEVENT
END:VCALENDAR