BEGIN:VCALENDAR
VERSION:2.0
PRODID:-//Fun Kids - the UK&#039;s children&#039;s radio station - ECPv6.9.0//NONSGML v1.0//EN
CALSCALE:GREGORIAN
METHOD:PUBLISH
X-WR-CALNAME:Fun Kids - the UK&#039;s children&#039;s radio station
X-ORIGINAL-URL:https://www.funkidslive.com
X-WR-CALDESC:Events for Fun Kids - the UK&#039;s children&#039;s radio station
REFRESH-INTERVAL;VALUE=DURATION:PT1H
X-Robots-Tag:noindex
X-PUBLISHED-TTL:PT1H
BEGIN:VTIMEZONE
TZID:Europe/London
BEGIN:DAYLIGHT
TZOFFSETFROM:+0000
TZOFFSETTO:+0100
TZNAME:BST
DTSTART:20170326T010000
END:DAYLIGHT
BEGIN:STANDARD
TZOFFSETFROM:+0100
TZOFFSETTO:+0000
TZNAME:GMT
DTSTART:20171029T010000
END:STANDARD
END:VTIMEZONE
BEGIN:VEVENT
DTSTART;TZID=Europe/London:20170703T180000
DTEND;TZID=Europe/London:20170707T220000
DTSTAMP:20260421T145146
CREATED:20170615T121043Z
LAST-MODIFIED:20170616T093858Z
UID:1078826-1499104800-1499464800@www.funkidslive.com
SUMMARY:Barclaycard presents British Summer Time Hyde Park outdoor movie screenings!
DESCRIPTION:Barclaycard presents British Summer Time Hyde Park is hosting four free evenings of frivolous film fun on one of the biggest outdoor screens in London! \nThere is something for everyone at Open House with four themed movie evenings… \nEntry to the cinema is FREE on a first-come-first-served basis. \nMusical Mondays (Mon. 3rd July): ‘The Lion King’ & ‘La La Land’ \nCreature Features (Tue. 4th July): ‘The Jungle Book’ 2016 & ‘Beauty and the Beast’ 2017 \nFantasy Fantastic (Wed. 5th July): ‘Fantastic Beasts and Where To Find Them’ & ‘The Princess Bride’ \nFlashback Friday (Fri. 7th July): ‘Back To The Future’ & ‘Dirty Dancing’ \nThe first movie starts at 6pm\, with the second following immediately afterwards. \nThere’s also live music and entertainment\, street food\, pop-up bars\, tennis screenings\, theatre\, sports\, and much more!
URL:https://www.funkidslive.com/event/barclaycard-presents-british-summer-time-hyde-park-outdoor-movie-screenings/
LOCATION:Hyde Park\, London\, Hyde Park\, London\, W2 2UH\, United Kingdom
CATEGORIES:Screening
GEO:51.5072682;-0.1657303
X-APPLE-STRUCTURED-LOCATION;VALUE=URI;X-ADDRESS=Hyde Park London Hyde Park London W2 2UH United Kingdom;X-APPLE-RADIUS=500;X-TITLE=Hyde Park:geo:-0.1657303,51.5072682
END:VEVENT
END:VCALENDAR