BEGIN:VCALENDAR
VERSION:2.0
PRODID:-//Fun Kids - the UK&#039;s children&#039;s radio station - ECPv6.9.0//NONSGML v1.0//EN
CALSCALE:GREGORIAN
METHOD:PUBLISH
X-WR-CALNAME:Fun Kids - the UK&#039;s children&#039;s radio station
X-ORIGINAL-URL:https://www.funkidslive.com
X-WR-CALDESC:Events for Fun Kids - the UK&#039;s children&#039;s radio station
REFRESH-INTERVAL;VALUE=DURATION:PT1H
X-Robots-Tag:noindex
X-PUBLISHED-TTL:PT1H
BEGIN:VTIMEZONE
TZID:Europe/London
BEGIN:DAYLIGHT
TZOFFSETFROM:+0000
TZOFFSETTO:+0100
TZNAME:BST
DTSTART:20190331T010000
END:DAYLIGHT
BEGIN:STANDARD
TZOFFSETFROM:+0100
TZOFFSETTO:+0000
TZNAME:GMT
DTSTART:20191027T010000
END:STANDARD
END:VTIMEZONE
BEGIN:VEVENT
DTSTART;VALUE=DATE:20190304
DTEND;VALUE=DATE:20190307
DTSTAMP:20260421T194940
CREATED:20190207T151115Z
LAST-MODIFIED:20190207T151204Z
UID:1092055-1551675600-1551848399@www.funkidslive.com
SUMMARY:Ben & Holly's Little Kingdom is Coming to new Wimbledon Theatre
DESCRIPTION:The BAFTA award-winning TV show ‘Ben & Holly’s Little Kingdom’ has now got it’s own stage show! \nThe show’s all about Holly and Ben. Holly’s a young Fairy Princess who is still learning how to fly and her magic doesn’t always go quite according to plan; and Ben’s an Elf who doesn’t have wings and he doesn’t do magic\, but he runs very fast and flies on the back of Gaston the Ladybird. \n \nThey live in the Little Kingdom\, a tiny land where flowers and grass rise high above them and every day is an adventure. \nWith singing\, dancing and clapping along for all it’s the perfect show to go and see this March! \n  \nPerfomances: \n4th March – 4:30pm \n5th March – 10:00am\, 1:00pm\, 4:30pm
URL:https://www.funkidslive.com/event/ben-hollys-little-kingdom-is-coming-to-new-wimbledon-theatre/
LOCATION:New Wimbledon Theatre\, The Broadway\, Wimbledon\, London\, SW19 1QG\, United Kingdom
CATEGORIES:Shows
END:VEVENT
END:VCALENDAR