BEGIN:VCALENDAR
VERSION:2.0
PRODID:-//Fun Kids - the UK&#039;s children&#039;s radio station - ECPv6.9.0//NONSGML v1.0//EN
CALSCALE:GREGORIAN
METHOD:PUBLISH
X-WR-CALNAME:Fun Kids - the UK&#039;s children&#039;s radio station
X-ORIGINAL-URL:https://www.funkidslive.com
X-WR-CALDESC:Events for Fun Kids - the UK&#039;s children&#039;s radio station
REFRESH-INTERVAL;VALUE=DURATION:PT1H
X-Robots-Tag:noindex
X-PUBLISHED-TTL:PT1H
BEGIN:VTIMEZONE
TZID:Europe/London
BEGIN:DAYLIGHT
TZOFFSETFROM:+0000
TZOFFSETTO:+0100
TZNAME:BST
DTSTART:20180325T010000
END:DAYLIGHT
BEGIN:STANDARD
TZOFFSETFROM:+0100
TZOFFSETTO:+0000
TZNAME:GMT
DTSTART:20181028T010000
END:STANDARD
END:VTIMEZONE
BEGIN:VEVENT
DTSTART;VALUE=DATE:20181202
DTEND;VALUE=DATE:20181204
DTSTAMP:20260422T075019
CREATED:20181119T101428Z
LAST-MODIFIED:20181121T150838Z
UID:1091055-1543726800-1543813199@www.funkidslive.com
SUMMARY:Big Fish Little Fish 'Winter Wonderland' party!
DESCRIPTION:There’s nothing more fun then a party at Christmas\, and this year Big Fish Little Fish are throwing an amazing ‘Winter Wonderland’ party to get everyone in the festive mood! \nThe party will have loads of amazing electronic music for everyone to dance to. \nGet tickets here! \nKids will have a great time dancing to all the amazing tunes on the multi-sensory dance-floor which has bubbles\, giant balloons\, tunnels and even a glitter cannons! \nMark XTC is the DJ and he knows how to throw an incredible Christmas party that the whole family will love. \nFancy dress is encouraged\, so make sure you bring along a big scarf and your reindeer antlers. \nFind more events near you with Fantastic For Families \n 
URL:https://www.funkidslive.com/event/big-fish-little-fish-winter-wonderland-party/
LOCATION:The Leadmill\, 6 Leadmill Rd\, Sheffield\, South Yorkshire\, S1 4SE\, United Kingdom
CATEGORIES:Christmas
END:VEVENT
END:VCALENDAR