BEGIN:VCALENDAR
VERSION:2.0
PRODID:-//Fun Kids - the UK&#039;s children&#039;s radio station - ECPv6.9.0//NONSGML v1.0//EN
CALSCALE:GREGORIAN
METHOD:PUBLISH
X-WR-CALNAME:Fun Kids - the UK&#039;s children&#039;s radio station
X-ORIGINAL-URL:https://www.funkidslive.com
X-WR-CALDESC:Events for Fun Kids - the UK&#039;s children&#039;s radio station
REFRESH-INTERVAL;VALUE=DURATION:PT1H
X-Robots-Tag:noindex
X-PUBLISHED-TTL:PT1H
BEGIN:VTIMEZONE
TZID:Europe/London
BEGIN:DAYLIGHT
TZOFFSETFROM:+0000
TZOFFSETTO:+0100
TZNAME:BST
DTSTART:20170326T010000
END:DAYLIGHT
BEGIN:STANDARD
TZOFFSETFROM:+0100
TZOFFSETTO:+0000
TZNAME:GMT
DTSTART:20171029T010000
END:STANDARD
END:VTIMEZONE
BEGIN:VEVENT
DTSTART;VALUE=DATE:20171104
DTEND;VALUE=DATE:20171106
DTSTAMP:20260421T113706
CREATED:20171102T125123Z
LAST-MODIFIED:20171102T125123Z
UID:1083849-1509771600-1509857999@www.funkidslive.com
SUMMARY:Bonfire Night at Ascot Racecourse!
DESCRIPTION:Gather friends and family to enjoy Ascot’s first meeting of the 2017/18 Jumps season on Saturday 4th November\, featuring the £100\,000 Sodexo Gold Cup Chase\, ran over three miles. \nAfter the last race finishes\, preparations will begin for a 6.30pm fireworks show! \n \nThe Plaza Lawn will be alive with activity throughout the afternoon with fairground rides\, face painting and soft play for children. There will also be fireworks themed arts and crafts\, clip clop pony rides and food stands including toffee and chocolate apple giveaways. \nAscot will also be serving a range of limited edition hot chocolates\, perfect for warming up chilly hands! Flavours include black cherry & dark chocolate\, peanut butter & caramel and classic chocolate & whipped cream. \nThe day is a designated family day so all children under 18 get free entry\, adult tickets available from £24. \nClick here to get tickets!
URL:https://www.funkidslive.com/event/bonfire-night-ascot-racecourse/
LOCATION:Ascot Racecourse\, Ascot Racecourse\, High St.\, Ascot\, SL5 7JX\, United Kingdom
CATEGORIES:Days Out
END:VEVENT
END:VCALENDAR