BEGIN:VCALENDAR
VERSION:2.0
PRODID:-//Fun Kids - the UK&#039;s children&#039;s radio station - ECPv6.9.0//NONSGML v1.0//EN
CALSCALE:GREGORIAN
METHOD:PUBLISH
X-WR-CALNAME:Fun Kids - the UK&#039;s children&#039;s radio station
X-ORIGINAL-URL:https://www.funkidslive.com
X-WR-CALDESC:Events for Fun Kids - the UK&#039;s children&#039;s radio station
REFRESH-INTERVAL;VALUE=DURATION:PT1H
X-Robots-Tag:noindex
X-PUBLISHED-TTL:PT1H
BEGIN:VTIMEZONE
TZID:Europe/London
BEGIN:DAYLIGHT
TZOFFSETFROM:+0000
TZOFFSETTO:+0100
TZNAME:BST
DTSTART:20250330T010000
END:DAYLIGHT
BEGIN:STANDARD
TZOFFSETFROM:+0100
TZOFFSETTO:+0000
TZNAME:GMT
DTSTART:20251026T010000
END:STANDARD
BEGIN:DAYLIGHT
TZOFFSETFROM:+0000
TZOFFSETTO:+0100
TZNAME:BST
DTSTART:20260329T010000
END:DAYLIGHT
BEGIN:STANDARD
TZOFFSETFROM:+0100
TZOFFSETTO:+0000
TZNAME:GMT
DTSTART:20261025T010000
END:STANDARD
BEGIN:DAYLIGHT
TZOFFSETFROM:+0000
TZOFFSETTO:+0100
TZNAME:BST
DTSTART:20270328T010000
END:DAYLIGHT
BEGIN:STANDARD
TZOFFSETFROM:+0100
TZOFFSETTO:+0000
TZNAME:GMT
DTSTART:20271031T010000
END:STANDARD
END:VTIMEZONE
BEGIN:VEVENT
DTSTART;VALUE=DATE:20250107
DTEND;VALUE=DATE:20270102
DTSTAMP:20260422T001011
CREATED:20250107T142335Z
LAST-MODIFIED:20250107T142335Z
UID:1122769-1736226000-1798779599@www.funkidslive.com
SUMMARY:Brandon Country Park
DESCRIPTION:Brandon Country Park in Suffolk\, is a great park to explore. \nThere’s an arboretum with its copper beech and intriguing monkey puzzle trees. \nThere are a variety of walks within the park\, many on hard surfaces or on firm paths so suitable for all the family. \nThese lead around the forest taking you to a walled garden\, lake\, and mausoleum. \nThere’s a fun children’s playground too. \nGo to www.discoversuffolk.org.uk to find out more.
URL:https://www.funkidslive.com/event/brandon-country-park/
LOCATION:Brandon Country Park\, Bury Road\, Brandon\, IP27 0SU
END:VEVENT
END:VCALENDAR