BEGIN:VCALENDAR
VERSION:2.0
PRODID:-//Fun Kids - the UK&#039;s children&#039;s radio station - ECPv6.9.0//NONSGML v1.0//EN
CALSCALE:GREGORIAN
METHOD:PUBLISH
X-WR-CALNAME:Fun Kids - the UK&#039;s children&#039;s radio station
X-ORIGINAL-URL:https://www.funkidslive.com
X-WR-CALDESC:Events for Fun Kids - the UK&#039;s children&#039;s radio station
REFRESH-INTERVAL;VALUE=DURATION:PT1H
X-Robots-Tag:noindex
X-PUBLISHED-TTL:PT1H
BEGIN:VTIMEZONE
TZID:Europe/London
BEGIN:DAYLIGHT
TZOFFSETFROM:+0000
TZOFFSETTO:+0100
TZNAME:BST
DTSTART:20200329T010000
END:DAYLIGHT
BEGIN:STANDARD
TZOFFSETFROM:+0100
TZOFFSETTO:+0000
TZNAME:GMT
DTSTART:20201025T010000
END:STANDARD
END:VTIMEZONE
BEGIN:VEVENT
DTSTART;TZID=Europe/London:20200808T220000
DTEND;TZID=Europe/London:20200808T230000
DTSTAMP:20260423T004900
CREATED:20200804T143809Z
LAST-MODIFIED:20200804T143809Z
UID:1098786-1596924000-1596927600@www.funkidslive.com
SUMMARY:Bristol International Balloon Fiesta Virtual Nightglow
DESCRIPTION:Saturday 8th August at 9pm will see the event’s iconic nightglow take place virtually\, featuring 12 hot air balloons and their crews. \nThe production will feature some incredible special effects and a light show\, as well as some special surprises\, all to a soundtrack produced by BBC Radio Bristol. \nThis year’s nightglow will be closed to the public and subsequently broadcast on Saturday at 9pm\, coinciding with the timing of the traditional Fiesta nightglow. \nThe nightglow has been made possible by the voluntary efforts of the production team and companies behind the fiesta including Richmond Event Management\, Flo Gas\, Skyburst and Utopium\, as well as ballooning teams volunteering their time to make this happen. \nFind out more here
URL:https://www.funkidslive.com/event/bristol-international-balloon-fiesta-virtual-nightglow/
END:VEVENT
END:VCALENDAR