BEGIN:VCALENDAR
VERSION:2.0
PRODID:-//Fun Kids - the UK&#039;s children&#039;s radio station - ECPv6.9.0//NONSGML v1.0//EN
CALSCALE:GREGORIAN
METHOD:PUBLISH
X-WR-CALNAME:Fun Kids - the UK&#039;s children&#039;s radio station
X-ORIGINAL-URL:https://www.funkidslive.com
X-WR-CALDESC:Events for Fun Kids - the UK&#039;s children&#039;s radio station
REFRESH-INTERVAL;VALUE=DURATION:PT1H
X-Robots-Tag:noindex
X-PUBLISHED-TTL:PT1H
BEGIN:VTIMEZONE
TZID:Europe/London
BEGIN:DAYLIGHT
TZOFFSETFROM:+0000
TZOFFSETTO:+0100
TZNAME:BST
DTSTART:20170326T010000
END:DAYLIGHT
BEGIN:STANDARD
TZOFFSETFROM:+0100
TZOFFSETTO:+0000
TZNAME:GMT
DTSTART:20171029T010000
END:STANDARD
END:VTIMEZONE
BEGIN:VEVENT
DTSTART;TZID=Europe/London:20171007T100000
DTEND;TZID=Europe/London:20171008T170000
DTSTAMP:20260421T100957
CREATED:20171002T143305Z
LAST-MODIFIED:20171002T143305Z
UID:1082537-1507370400-1507482000@www.funkidslive.com
SUMMARY:The British Pet Show at South of England Showground
DESCRIPTION:The British Pet Show is taking place this Saturday at the South of England Showground in Ardingly\, West Sussex. \nThere are dog shows with the prize of cutest puppy up for grabs\, furry pets corner where you can see the cuddliest creatures around\, and a world of birds where you can see amazing free-flight displays. \nYou can also get up close with Burmese Pythons and Boa Constrictors in Reptiles Paradise or\, if you’d prefer something a little less scary\, you can pet ponies and ride a donkey! \nWhether you love dogs\, cats\, rats\, rabbits\, fish\, chickens or chinchillas\, this seems a pretty good show to visit! \nClick here to book your tickets!
URL:https://www.funkidslive.com/event/british-pet-show-south-england-showground/
LOCATION:South of England Showground\, Selsfield Road\, Ardingly\, Haywards Heath\, Sussex\, RH17 6TL\, United Kingdom
CATEGORIES:Festival
GEO:51.054949;-0.0885278
X-APPLE-STRUCTURED-LOCATION;VALUE=URI;X-ADDRESS=South of England Showground Selsfield Road Ardingly Haywards Heath Sussex RH17 6TL United Kingdom;X-APPLE-RADIUS=500;X-TITLE=Selsfield Road:geo:-0.0885278,51.054949
END:VEVENT
END:VCALENDAR