BEGIN:VCALENDAR
VERSION:2.0
PRODID:-//Fun Kids - the UK&#039;s children&#039;s radio station - ECPv6.9.0//NONSGML v1.0//EN
CALSCALE:GREGORIAN
METHOD:PUBLISH
X-WR-CALNAME:Fun Kids - the UK&#039;s children&#039;s radio station
X-ORIGINAL-URL:https://www.funkidslive.com
X-WR-CALDESC:Events for Fun Kids - the UK&#039;s children&#039;s radio station
REFRESH-INTERVAL;VALUE=DURATION:PT1H
X-Robots-Tag:noindex
X-PUBLISHED-TTL:PT1H
BEGIN:VTIMEZONE
TZID:Europe/London
BEGIN:DAYLIGHT
TZOFFSETFROM:+0000
TZOFFSETTO:+0100
TZNAME:BST
DTSTART:20180325T010000
END:DAYLIGHT
BEGIN:STANDARD
TZOFFSETFROM:+0100
TZOFFSETTO:+0000
TZNAME:GMT
DTSTART:20181028T010000
END:STANDARD
END:VTIMEZONE
BEGIN:VEVENT
DTSTART;TZID=Europe/London:20180524T080000
DTEND;TZID=Europe/London:20180603T170000
DTSTAMP:20260421T145017
CREATED:20180525T104455Z
LAST-MODIFIED:20180525T104455Z
UID:1088618-1527148800-1528045200@www.funkidslive.com
SUMMARY:Check out the Techtopia Festival at Polka Theatre!
DESCRIPTION:Polka Theatre are hosting a new Techtopia Festival!  \nIt’s running from 24 May until 3 June and includes a number of performances\, workshops and installations spanning two weeks exploring the role of technology in modern childhood. \n \nThe festival opens with Scanner’s Inc and House of Absolute’s Stardust\, a special exploration of sound and dance. \nOther highlights include Error 404 and Random Selfies¸ followed by The First Girl In Space by Andrew Alty and performed by Polka Youth Theatre. \nRunning alongside these are a variety of workshops including The World of Supersaurs with author Jay Jay Burridge\, and Animated Worlds with award-winning company 1927. \n \nClick here to see the schedule and find out more!
URL:https://www.funkidslive.com/event/check-out-the-techtopia-festival-at-polka-theatre/
LOCATION:Polka Theatre\, 240 The Broadway\, Wimbledon\, London\, London\, SW19 1SB\, United Kingdom
CATEGORIES:Shows
GEO:51.41961;-0.1953338
X-APPLE-STRUCTURED-LOCATION;VALUE=URI;X-ADDRESS=Polka Theatre 240 The Broadway Wimbledon London London SW19 1SB United Kingdom;X-APPLE-RADIUS=500;X-TITLE=240 The Broadway\, Wimbledon\, London:geo:-0.1953338,51.41961
END:VEVENT
END:VCALENDAR