BEGIN:VCALENDAR
VERSION:2.0
PRODID:-//Fun Kids - the UK&#039;s children&#039;s radio station - ECPv6.9.0//NONSGML v1.0//EN
CALSCALE:GREGORIAN
METHOD:PUBLISH
X-WR-CALNAME:Fun Kids - the UK&#039;s children&#039;s radio station
X-ORIGINAL-URL:https://www.funkidslive.com
X-WR-CALDESC:Events for Fun Kids - the UK&#039;s children&#039;s radio station
REFRESH-INTERVAL;VALUE=DURATION:PT1H
X-Robots-Tag:noindex
X-PUBLISHED-TTL:PT1H
BEGIN:VTIMEZONE
TZID:Europe/London
BEGIN:DAYLIGHT
TZOFFSETFROM:+0000
TZOFFSETTO:+0100
TZNAME:BST
DTSTART:20170326T010000
END:DAYLIGHT
BEGIN:STANDARD
TZOFFSETFROM:+0100
TZOFFSETTO:+0000
TZNAME:GMT
DTSTART:20171029T010000
END:STANDARD
BEGIN:DAYLIGHT
TZOFFSETFROM:+0000
TZOFFSETTO:+0100
TZNAME:BST
DTSTART:20180325T010000
END:DAYLIGHT
BEGIN:STANDARD
TZOFFSETFROM:+0100
TZOFFSETTO:+0000
TZNAME:GMT
DTSTART:20181028T010000
END:STANDARD
END:VTIMEZONE
BEGIN:VEVENT
DTSTART;VALUE=DATE:20171122
DTEND;VALUE=DATE:20180103
DTSTAMP:20260421T193233
CREATED:20171026T144131Z
LAST-MODIFIED:20171103T145740Z
UID:1083508-1511326800-1514869199@www.funkidslive.com
SUMMARY:Christmas at Kew: 2017
DESCRIPTION:Follow a sparkling trail of over one million twinkling lights\, illuminating heritage trees and buildings through Kew Gardens. \nFairy-tale meets fantasy in a world of singing trees\, larger-than-life flora\, ribbons of light\, giant baubles\, and a flickering Fire Garden. The Palm House leaps into life with a dazzling show of laser beams\, jets of light and kaleidoscopic projections. \nLittle ones can catch a glimpse of Santa and his elves at the North Pole village and enjoy a vintage fairground ride. Not so little ones can warm up with hot chocolate and toast marshmallows around the fire. \nhttps://youtube.com/watch?=lyafXvpEPIE \n \nClick here to find out more!
URL:https://www.funkidslive.com/event/christmas-kew-2017/
LOCATION:Royal Botanical Gardens\, Kew\, Royal Botanic Gardens\, Kew\, London\, TW9 3AB\, United Kingdom
CATEGORIES:Days Out
GEO:51.4837114;-0.2896872
X-APPLE-STRUCTURED-LOCATION;VALUE=URI;X-ADDRESS=Royal Botanical Gardens Kew Royal Botanic Gardens Kew London TW9 3AB United Kingdom;X-APPLE-RADIUS=500;X-TITLE=Royal Botanic Gardens\, Kew:geo:-0.2896872,51.4837114
END:VEVENT
END:VCALENDAR