BEGIN:VCALENDAR
VERSION:2.0
PRODID:-//Fun Kids - the UK&#039;s children&#039;s radio station - ECPv6.9.0//NONSGML v1.0//EN
CALSCALE:GREGORIAN
METHOD:PUBLISH
X-WR-CALNAME:Fun Kids - the UK&#039;s children&#039;s radio station
X-ORIGINAL-URL:https://www.funkidslive.com
X-WR-CALDESC:Events for Fun Kids - the UK&#039;s children&#039;s radio station
REFRESH-INTERVAL;VALUE=DURATION:PT1H
X-Robots-Tag:noindex
X-PUBLISHED-TTL:PT1H
BEGIN:VTIMEZONE
TZID:Europe/London
BEGIN:DAYLIGHT
TZOFFSETFROM:+0000
TZOFFSETTO:+0100
TZNAME:BST
DTSTART:20210328T010000
END:DAYLIGHT
BEGIN:STANDARD
TZOFFSETFROM:+0100
TZOFFSETTO:+0000
TZNAME:GMT
DTSTART:20211031T010000
END:STANDARD
END:VTIMEZONE
BEGIN:VEVENT
DTSTART;VALUE=DATE:20211023
DTEND;VALUE=DATE:20211025
DTSTAMP:20260422T021837
CREATED:20211004T132235Z
LAST-MODIFIED:20211004T132235Z
UID:1104248-1634965200-1635051599@www.funkidslive.com
SUMMARY:Club Origami
DESCRIPTION:Little Big Dance is coming to Pegasus for the first time with Takeshi Matsumoto’s Club Origami: here to rip\, fold\, and scrumple! Scrunch the paper and see how your imagination begins to dance in this immersive and interactive show. \nDive into the magical world of Club Origami\, where you and your family explore whole new ways of thinking\, playing\, and moving. Come and see a mixture of dance\, live music\, and fashion meet the magic of origami as you’re swept away on an adventure to a land made of paper and play. \nFor ages 5 and under. \nRunning time: 40 mins plus 10 mins stay and play. \nTime: 11:00am\, 12:30pm\, 2:30pm \nMake sure to book in advance! If the show is cancelled for any COVID-19-related reasons\, we will offer a no-quibble full refund.
URL:https://www.funkidslive.com/event/club-origami/
LOCATION:Pegasus Theatre\, Magdalen Road\, Oxford\, OX4 1RE\, United Kingdom
END:VEVENT
END:VCALENDAR