BEGIN:VCALENDAR
VERSION:2.0
PRODID:-//Fun Kids - the UK&#039;s children&#039;s radio station - ECPv6.9.0//NONSGML v1.0//EN
CALSCALE:GREGORIAN
METHOD:PUBLISH
X-WR-CALNAME:Fun Kids - the UK&#039;s children&#039;s radio station
X-ORIGINAL-URL:https://www.funkidslive.com
X-WR-CALDESC:Events for Fun Kids - the UK&#039;s children&#039;s radio station
REFRESH-INTERVAL;VALUE=DURATION:PT1H
X-Robots-Tag:noindex
X-PUBLISHED-TTL:PT1H
BEGIN:VTIMEZONE
TZID:Europe/London
BEGIN:DAYLIGHT
TZOFFSETFROM:+0000
TZOFFSETTO:+0100
TZNAME:BST
DTSTART:20210328T010000
END:DAYLIGHT
BEGIN:STANDARD
TZOFFSETFROM:+0100
TZOFFSETTO:+0000
TZNAME:GMT
DTSTART:20211031T010000
END:STANDARD
END:VTIMEZONE
BEGIN:VEVENT
DTSTART;TZID=Europe/London:20211009T150000
DTEND;TZID=Europe/London:20211009T160000
DTSTAMP:20260422T021935
CREATED:20210909T140948Z
LAST-MODIFIED:20210909T142341Z
UID:1104113-1633791600-1633795200@www.funkidslive.com
SUMMARY:Comedy Club 4 Kids
DESCRIPTION:It’s a comedy club\, right\, but for kids. Also any adults who enjoy a swear-free hour with the international circuit’s best stand-ups and sketch acts. Non-patronising. Pure awesome. \nSince 2005\, the Comedy Club 4 Kids has been getting the best stand-ups and sketch acts from the international circuit to do their thing for an audience of children and their families… but without the rude bits! The show is family friendly\, but without any patronising idiocy. In fact\, it’s just like a normal comedy club\, but it’s on in the day\, kids are allowed in\, and thus there is a higher than usual chance of heckles like “why is that your face!?” \n“A highlight for children in recent years\, giving them a taste of some of the biggest names in comedy… with the fun\, rowdy feel of a real comedy club” – The Guardian  \nFor ages 6+ \nRunning time: 60 mins\, no interval \nMake sure you book tickets in advance. If the show is cancelled or you’re unable to make it for any COVID-19-related reasons\, we will offer a no-quibble full refund.
URL:https://www.funkidslive.com/event/comedy-club-4-kids/
LOCATION:Pegasus Theatre\, Magdalen Road\, Oxford\, OX4 1RE\, United Kingdom
END:VEVENT
END:VCALENDAR