BEGIN:VCALENDAR
VERSION:2.0
PRODID:-//Fun Kids - the UK&#039;s children&#039;s radio station - ECPv6.9.0//NONSGML v1.0//EN
CALSCALE:GREGORIAN
METHOD:PUBLISH
X-WR-CALNAME:Fun Kids - the UK&#039;s children&#039;s radio station
X-ORIGINAL-URL:https://www.funkidslive.com
X-WR-CALDESC:Events for Fun Kids - the UK&#039;s children&#039;s radio station
REFRESH-INTERVAL;VALUE=DURATION:PT1H
X-Robots-Tag:noindex
X-PUBLISHED-TTL:PT1H
BEGIN:VTIMEZONE
TZID:Europe/London
BEGIN:DAYLIGHT
TZOFFSETFROM:+0000
TZOFFSETTO:+0100
TZNAME:BST
DTSTART:20190331T010000
END:DAYLIGHT
BEGIN:STANDARD
TZOFFSETFROM:+0100
TZOFFSETTO:+0000
TZNAME:GMT
DTSTART:20191027T010000
END:STANDARD
END:VTIMEZONE
BEGIN:VEVENT
DTSTART;VALUE=DATE:20190803
DTEND;VALUE=DATE:20190813
DTSTAMP:20260421T213555
CREATED:20190724T105110Z
LAST-MODIFIED:20190724T105110Z
UID:1094107-1564808400-1565585999@www.funkidslive.com
SUMMARY:Day Out With Thomas is returning to the Watercress Line in Hampshire this summer!
DESCRIPTION:Mid Hants heritage railway will play host to Thomas and friends from August 3rd to 11th\, bringing loads of fun\, activities and entertainment for all the family. \nNot only will you have the chance to meet Thomas\, you’ll also have the opportunity to enjoy unlimited trips behind him! \nExperience a ride on a real steam engine and don’t miss a trip on the miniature railway! \nYou’ll even get the chance to shake hands with The Fat Controller\, enjoy Rusty & Dusty’s entertainment show and ride the vintage fairground rides. \nClick here to find out more and book tickets!
URL:https://www.funkidslive.com/event/day-out-with-thomas-is-returning-to-the-watercress-line-in-hampshire-this-summer/
LOCATION:Mid Hants Railway\, The Railway Station\, Station Road\, New Alresford\, SO24 9JG\, United Kingdom
CATEGORIES:Days Out
END:VEVENT
END:VCALENDAR