BEGIN:VCALENDAR
VERSION:2.0
PRODID:-//Fun Kids - the UK&#039;s children&#039;s radio station - ECPv6.9.0//NONSGML v1.0//EN
CALSCALE:GREGORIAN
METHOD:PUBLISH
X-WR-CALNAME:Fun Kids - the UK&#039;s children&#039;s radio station
X-ORIGINAL-URL:https://www.funkidslive.com
X-WR-CALDESC:Events for Fun Kids - the UK&#039;s children&#039;s radio station
REFRESH-INTERVAL;VALUE=DURATION:PT1H
X-Robots-Tag:noindex
X-PUBLISHED-TTL:PT1H
BEGIN:VTIMEZONE
TZID:Europe/London
BEGIN:DAYLIGHT
TZOFFSETFROM:+0000
TZOFFSETTO:+0100
TZNAME:BST
DTSTART:20180325T010000
END:DAYLIGHT
BEGIN:STANDARD
TZOFFSETFROM:+0100
TZOFFSETTO:+0000
TZNAME:GMT
DTSTART:20181028T010000
END:STANDARD
END:VTIMEZONE
BEGIN:VEVENT
DTSTART;VALUE=DATE:20180226
DTEND;VALUE=DATE:20180911
DTSTAMP:20260422T021024
CREATED:20180226T152602Z
LAST-MODIFIED:20180430T082556Z
UID:1087347-1519621200-1536555599@www.funkidslive.com
SUMMARY:DC Exhibition: Dawn of Super Heroes is on now at The O2 Arena!
DESCRIPTION:Following a really successful run in Paris\, ‘DC Exhibition: Dawn of Super Heroes’ is now open at The O2 Arena in London! \nIt’s a one-of-a-kind exhibition that celebrates all things DC from the unique mythology to iconic Super Heroes and Super Villains such as Superman\, Batman\, Wonder Woman and The Joker. \nThe exhibit features more than 200 original comic pages\, around 300 sketches and concept artworks for the movies\, together with 45 original costumes\, models and props used in the iconic films. \n  \nYou’ll get to walk through the exhibition\, which runs in chronological order\, with each room offering guests a behind-the-scenes look at the creation of the mythical DC Universe. \nFeaturing artwork of Super Heroes and Super-Villains such as Superman\, Batman\, Wonder Woman\, The Joker\, The Penguin and Mr. Freeze\, the Exhibition will bring fans closer to the world’s most iconic characters! \n   \n‘DC Exhibition: Dawn of Super Heroes’ features: \n\nExclusive artworks from the highly-acclaimed Wonder Woman film\, directed by Patty Jenkins\, that premiered in the summer of 2017.\nCostumes and props from more recent films such as; 1989 to 1999’s Batman franchise directed by Tim Burton and Joel Schumacher\, the acclaimed The Dark Knight trilogy directed by Christopher Nolan\, as well as The Man of Steel\, Batman V Superman and the recent Justice League by Zack Snyder.\nOriginal drawings of DC’s stable of famous Super Heroes and Super Villains.\nOriginal costumes from blockbuster DC films including the famous cape worn by Christopher Reeve in the Superman movies and Lynda Carter’s iconic Wonder Woman costume from the 1970s.\n\nThe exhibit is open right now at The O2 Arena in London!\nClick here to find out more! \n  \nIf you want to visit then for the whole month of April kids under 17 go free!
URL:https://www.funkidslive.com/event/dc-exhibition-dawn-super-heroes-now-o2-arena/
LOCATION:The O2 Arena\, Peninsula Square\, London\, SE10 0DX\, United Kingdom
CATEGORIES:Exhibition
GEO:51.5015524;0.0047657
X-APPLE-STRUCTURED-LOCATION;VALUE=URI;X-ADDRESS=The O2 Arena Peninsula Square London SE10 0DX United Kingdom;X-APPLE-RADIUS=500;X-TITLE=Peninsula Square:geo:0.0047657,51.5015524
END:VEVENT
END:VCALENDAR