BEGIN:VCALENDAR
VERSION:2.0
PRODID:-//Fun Kids - the UK&#039;s children&#039;s radio station - ECPv6.9.0//NONSGML v1.0//EN
CALSCALE:GREGORIAN
METHOD:PUBLISH
X-WR-CALNAME:Fun Kids - the UK&#039;s children&#039;s radio station
X-ORIGINAL-URL:https://www.funkidslive.com
X-WR-CALDESC:Events for Fun Kids - the UK&#039;s children&#039;s radio station
REFRESH-INTERVAL;VALUE=DURATION:PT1H
X-Robots-Tag:noindex
X-PUBLISHED-TTL:PT1H
BEGIN:VTIMEZONE
TZID:Europe/London
BEGIN:DAYLIGHT
TZOFFSETFROM:+0000
TZOFFSETTO:+0100
TZNAME:BST
DTSTART:20200329T010000
END:DAYLIGHT
BEGIN:STANDARD
TZOFFSETFROM:+0100
TZOFFSETTO:+0000
TZNAME:GMT
DTSTART:20201025T010000
END:STANDARD
END:VTIMEZONE
BEGIN:VEVENT
DTSTART;VALUE=DATE:20200621
DTEND;VALUE=DATE:20200802
DTSTAMP:20260422T141239
CREATED:20200619T135931Z
LAST-MODIFIED:20200619T135931Z
UID:1098141-1592715600-1596257999@www.funkidslive.com
SUMMARY:Don't Worry\, Little Crab
DESCRIPTION:Don’t Worry\, Little Crab will be available to watch for free on the Little Angel Theatre YouTube channel from Sunday 21st June at 11am BST until Friday 31st July. \nJoin them for the launch so that they can recreate the shared experience of watching the performance together and share your thoughts using the hashtag #DontWorryLittleCrab. \nWritten and illustrated by Chris Haughton. \nCreated and performed by Oliver Smart and Kim Scopes\, in association with Little Angel Theatre. \nRunning time: 10 minutes \nClick here
URL:https://www.funkidslive.com/event/dont-worry-little-crab/
END:VEVENT
END:VCALENDAR