BEGIN:VCALENDAR
VERSION:2.0
PRODID:-//Fun Kids - the UK&#039;s children&#039;s radio station - ECPv6.9.0//NONSGML v1.0//EN
CALSCALE:GREGORIAN
METHOD:PUBLISH
X-WR-CALNAME:Fun Kids - the UK&#039;s children&#039;s radio station
X-ORIGINAL-URL:https://www.funkidslive.com
X-WR-CALDESC:Events for Fun Kids - the UK&#039;s children&#039;s radio station
REFRESH-INTERVAL;VALUE=DURATION:PT1H
X-Robots-Tag:noindex
X-PUBLISHED-TTL:PT1H
BEGIN:VTIMEZONE
TZID:Europe/London
BEGIN:DAYLIGHT
TZOFFSETFROM:+0000
TZOFFSETTO:+0100
TZNAME:BST
DTSTART:20190331T010000
END:DAYLIGHT
BEGIN:STANDARD
TZOFFSETFROM:+0100
TZOFFSETTO:+0000
TZNAME:GMT
DTSTART:20191027T010000
END:STANDARD
END:VTIMEZONE
BEGIN:VEVENT
DTSTART;VALUE=DATE:20191101
DTEND;VALUE=DATE:20191105
DTSTAMP:20260422T002436
CREATED:20190919T101315Z
LAST-MODIFIED:20190919T101315Z
UID:1094766-1572584400-1572843599@www.funkidslive.com
SUMMARY:Dr. Seuss' How The Grinch Stole Christmas at the New Wimbledon Theatre this November!
DESCRIPTION:The Grinch discovers there’s more to Christmas than he bargained for in this heart-warming and hilarious musical\, based on Dr. Seuss’ hugely popular best-selling books made famous by the film adaptions. \nJoin in the Christmas spirit with the show critics have called ‘A genius of a show! A total delight for both kids and adults’ \nMagnificent sets and costumes inspired by Dr. Seuss create the whimsical world of Whoville\, while Max the Dog narrates the story of the scheming Grinch whose heart is ‘two sizes too small\,’ as he decides to steal Christmas away from the Whos\, an endlessly joyful bunch bursting with holiday cheer. \nThe show features the songs You’re A Mean One\, Mr. Grinch and Welcome Christmas. \nSTARRING ED BAKER-DULY AS THE GRINCH AND X-FACTOR’S MATT TERRY AS YOUNG MAX! \n \n\n‘Brilliant’ – HOLLYWOOD REPORTER \n‘An extraordinary performance’ – NEW YORK TIMES \n‘Spectacular! Genuine holiday glow’ – SAN FRANCISCO CHRONICLE \n\nTimes:  \n\nFri 19:00\nSat 12:00 & 15:30 & 19:30\nSun 12:00 & 15:30
URL:https://www.funkidslive.com/event/dr-seuss-how-the-grinch-stole-christmas-at-the-new-wimbledon-theatre-this-november/
LOCATION:New Wimbledon Theatre\, The Broadway\, Wimbledon\, London\, SW19 1QG\, United Kingdom
CATEGORIES:Christmas
END:VEVENT
END:VCALENDAR