BEGIN:VCALENDAR
VERSION:2.0
PRODID:-//Fun Kids - the UK&#039;s children&#039;s radio station - ECPv6.9.0//NONSGML v1.0//EN
CALSCALE:GREGORIAN
METHOD:PUBLISH
X-WR-CALNAME:Fun Kids - the UK&#039;s children&#039;s radio station
X-ORIGINAL-URL:https://www.funkidslive.com
X-WR-CALDESC:Events for Fun Kids - the UK&#039;s children&#039;s radio station
REFRESH-INTERVAL;VALUE=DURATION:PT1H
X-Robots-Tag:noindex
X-PUBLISHED-TTL:PT1H
BEGIN:VTIMEZONE
TZID:Europe/London
BEGIN:DAYLIGHT
TZOFFSETFROM:+0000
TZOFFSETTO:+0100
TZNAME:BST
DTSTART:20180325T010000
END:DAYLIGHT
BEGIN:STANDARD
TZOFFSETFROM:+0100
TZOFFSETTO:+0000
TZNAME:GMT
DTSTART:20181028T010000
END:STANDARD
END:VTIMEZONE
BEGIN:VEVENT
DTSTART;VALUE=DATE:20181221
DTEND;VALUE=DATE:20181223
DTSTAMP:20260422T021143
CREATED:20181206T112340Z
LAST-MODIFIED:20181206T115845Z
UID:1091414-1545368400-1545454799@www.funkidslive.com
SUMMARY:Enjoy The Toddler Takeover at The National Space Centre!
DESCRIPTION:This year Santa’s gong to be making a stop at one of the coolest places in the country… The National Space Centre! The centre is filled with loads of cool things to see and do all about space and this year Santa’s going to be stopping by to say hello to the countries youngest astronauts. \nClick here to book tickets \nIf you come along to the ‘Small Space Santa Special 2018’ there’ll be Christmas Crafts\, a Sing-a-Long Snow Time Sensory Party\, Christmas Story Time\, Games\, and you can find out about the science behind how Santa delivers all those presents in one night. \n \nThe day is suitable for children under 5 and entry to the Space Centre is free for Under 5s\, £15 per adult\, and gives you access to all the activities at the Small Space Santa Special except Santa’s Grotto. The Santa Special costs an additional £10 per child (accompanying adult free). \n 
URL:https://www.funkidslive.com/event/enjoy-the-toddler-takeover-at-the-national-space-centre/
LOCATION:The National Space Centre\, Exploration Dr\, Leicester\, Leicestershire\, LE4 5NS\, United Kingdom
CATEGORIES:Christmas
END:VEVENT
END:VCALENDAR