BEGIN:VCALENDAR
VERSION:2.0
PRODID:-//Fun Kids - the UK&#039;s children&#039;s radio station - ECPv6.9.0//NONSGML v1.0//EN
CALSCALE:GREGORIAN
METHOD:PUBLISH
X-WR-CALNAME:Fun Kids - the UK&#039;s children&#039;s radio station
X-ORIGINAL-URL:https://www.funkidslive.com
X-WR-CALDESC:Events for Fun Kids - the UK&#039;s children&#039;s radio station
REFRESH-INTERVAL;VALUE=DURATION:PT1H
X-Robots-Tag:noindex
X-PUBLISHED-TTL:PT1H
BEGIN:VTIMEZONE
TZID:Europe/London
BEGIN:DAYLIGHT
TZOFFSETFROM:+0000
TZOFFSETTO:+0100
TZNAME:BST
DTSTART:20180325T010000
END:DAYLIGHT
BEGIN:STANDARD
TZOFFSETFROM:+0100
TZOFFSETTO:+0000
TZNAME:GMT
DTSTART:20181028T010000
END:STANDARD
END:VTIMEZONE
BEGIN:VEVENT
DTSTART;TZID=Europe/London:20180207T080000
DTEND;TZID=Europe/London:20180207T170000
DTSTAMP:20260421T213027
CREATED:20180207T101105Z
LAST-MODIFIED:20180207T101105Z
UID:1086675-1517990400-1518022800@www.funkidslive.com
SUMMARY:Get clued-up about science activities that you can do at home!
DESCRIPTION:Join us for a wondrous afternoon of science activities that you can do at home! \nAlom Shaha will show his favourite demos and you can try them afterwards! \nFrom simple things you have lying around the house\, Alom will show you how to create exciting and hands-on science anywhere in the house. \nThe event will consist of a talk in the theatre\, followed by hands-on activities around the building. \nThe doors will open at approximately 1.30pm\, with a prompt start at 2.00pm. There will be time for questions and activities after the talk.
URL:https://www.funkidslive.com/event/get-clued-science-activities-can-home/
LOCATION:The Royal Institution\, The Royal Institution of Great Britain\, 21 Albemarle Street\, London\, W1S 4BS\, United Kingdom
CATEGORIES:Exhibition
END:VEVENT
END:VCALENDAR