BEGIN:VCALENDAR
VERSION:2.0
PRODID:-//Fun Kids - the UK&#039;s children&#039;s radio station - ECPv6.9.0//NONSGML v1.0//EN
CALSCALE:GREGORIAN
METHOD:PUBLISH
X-WR-CALNAME:Fun Kids - the UK&#039;s children&#039;s radio station
X-ORIGINAL-URL:https://www.funkidslive.com
X-WR-CALDESC:Events for Fun Kids - the UK&#039;s children&#039;s radio station
REFRESH-INTERVAL;VALUE=DURATION:PT1H
X-Robots-Tag:noindex
X-PUBLISHED-TTL:PT1H
BEGIN:VTIMEZONE
TZID:Europe/London
BEGIN:DAYLIGHT
TZOFFSETFROM:+0000
TZOFFSETTO:+0100
TZNAME:BST
DTSTART:20170326T010000
END:DAYLIGHT
BEGIN:STANDARD
TZOFFSETFROM:+0100
TZOFFSETTO:+0000
TZNAME:GMT
DTSTART:20171029T010000
END:STANDARD
END:VTIMEZONE
BEGIN:VEVENT
DTSTART;TZID=Europe/London:20170902T140000
DTEND;TZID=Europe/London:20170902T180000
DTSTAMP:20260421T194414
CREATED:20170824T083318Z
LAST-MODIFIED:20170824T163213Z
UID:1081079-1504360800-1504375200@www.funkidslive.com
SUMMARY:Get a free Trolls makeover with NOW TV!
DESCRIPTION:Trolls is on NOW TV so to celebrate\, you can experience your very own Troll transformation! \nThey’ve opened the UK’s first Troll inspired pop-up beauty salon… \n \nLocated under a bridge in London – just like real trolls! – the salon will offer free candy-coloured makeovers inspired by Troll characters – Poppy\, Guy Diamond and Smidge. \nWith rainbow colour palettes\, rosy noses and plenty of gorgeous glitter\, styling will include face paints\, fun hair accessories and bright quirky wigs. \nClick here to book! \nSo\, whether it’s Poppy’s positively pink look\, Smidge’s luscious blue locks or Guy Diamond’s glitterific get-up\, it’s time to let your hair down… by putting it up! \nYou can book in for hair and makeup styling and visitors will also be able to follow their art and get involved in some lively Trolls movie-themed activity sheets and scrapbooks while they wait their turn to get the Troll look…
URL:https://www.funkidslive.com/event/get-free-trolls-makeover-now-tv/
LOCATION:White Rabbit Studio\, White Rabbit Studio\, Dereham Pl\,\, London\, EC2A 3HJ\, United Kingdom
CATEGORIES:Workshops
GEO:51.525543;-0.078902
X-APPLE-STRUCTURED-LOCATION;VALUE=URI;X-ADDRESS=White Rabbit Studio White Rabbit Studio Dereham Pl London EC2A 3HJ United Kingdom;X-APPLE-RADIUS=500;X-TITLE=White Rabbit Studio\, Dereham Pl\,:geo:-0.078902,51.525543
END:VEVENT
END:VCALENDAR