BEGIN:VCALENDAR
VERSION:2.0
PRODID:-//Fun Kids - the UK&#039;s children&#039;s radio station - ECPv6.9.0//NONSGML v1.0//EN
CALSCALE:GREGORIAN
METHOD:PUBLISH
X-WR-CALNAME:Fun Kids - the UK&#039;s children&#039;s radio station
X-ORIGINAL-URL:https://www.funkidslive.com
X-WR-CALDESC:Events for Fun Kids - the UK&#039;s children&#039;s radio station
REFRESH-INTERVAL;VALUE=DURATION:PT1H
X-Robots-Tag:noindex
X-PUBLISHED-TTL:PT1H
BEGIN:VTIMEZONE
TZID:Europe/London
BEGIN:DAYLIGHT
TZOFFSETFROM:+0000
TZOFFSETTO:+0100
TZNAME:BST
DTSTART:20170326T010000
END:DAYLIGHT
BEGIN:STANDARD
TZOFFSETFROM:+0100
TZOFFSETTO:+0000
TZNAME:GMT
DTSTART:20171029T010000
END:STANDARD
BEGIN:DAYLIGHT
TZOFFSETFROM:+0000
TZOFFSETTO:+0100
TZNAME:BST
DTSTART:20180325T010000
END:DAYLIGHT
BEGIN:STANDARD
TZOFFSETFROM:+0100
TZOFFSETTO:+0000
TZNAME:GMT
DTSTART:20181028T010000
END:STANDARD
END:VTIMEZONE
BEGIN:VEVENT
DTSTART;VALUE=DATE:20171118
DTEND;VALUE=DATE:20180130
DTSTAMP:20260421T211049
CREATED:20171026T144948Z
LAST-MODIFIED:20171026T144948Z
UID:1083511-1510981200-1517201999@www.funkidslive.com
SUMMARY:Hogwarts in The Snow at Warner Bros. Studios!
DESCRIPTION:This festive season\, experience Christmas time at Hogwarts and discover how film-makers created fire\, ice and snow that never melts! \nFrom 18th November 2017 – 28th January 2018 you will have the opportunity to see the Harry Potter film series’ most iconic sets decorated for festive scenes. \nClick here to book tickets! \nThe Great Hall will be transformed\, the Gryffindor common room will be dressed for the season and a blanket of filmmaking snow will be meticulously applied to the majestic Hogwarts castle model. \nFor the first time ever\, the Great Hall stage will be decorated as it was for the iconic Yule Ball. As seen in Harry Potter and the Goblet of Fire\, the celebration of the Triwizard Tournament saw every detail of the Great Hall covered in shimmering silver\, dripping icicles and sparkling snow. \nYou will get a taster of this incredible set dress as the top section of the Great Hall will be transformed with snow-covered Christmas trees\, icicles and an orchestra of magical instruments. Conducted by Professor Flitwick\, the orchestra is made up of musical instruments painted by the Prop-Making department to match the silver of the Yule Ball. \n \nClick here to book tickets!
URL:https://www.funkidslive.com/event/hogwarts-snow-warner-bros-studios/
LOCATION:Warner Bros. Studio\, Studio Tour Drive\, Leavesden\, WD25 7LR\, United Kingdom
CATEGORIES:Exhibition
GEO:51.689659;-0.4181768
X-APPLE-STRUCTURED-LOCATION;VALUE=URI;X-ADDRESS=Warner Bros. Studio Studio Tour Drive Leavesden WD25 7LR United Kingdom;X-APPLE-RADIUS=500;X-TITLE=Studio Tour Drive:geo:-0.4181768,51.689659
END:VEVENT
END:VCALENDAR