BEGIN:VCALENDAR
VERSION:2.0
PRODID:-//Fun Kids - the UK&#039;s children&#039;s radio station - ECPv6.9.0//NONSGML v1.0//EN
CALSCALE:GREGORIAN
METHOD:PUBLISH
X-WR-CALNAME:Fun Kids - the UK&#039;s children&#039;s radio station
X-ORIGINAL-URL:https://www.funkidslive.com
X-WR-CALDESC:Events for Fun Kids - the UK&#039;s children&#039;s radio station
REFRESH-INTERVAL;VALUE=DURATION:PT1H
X-Robots-Tag:noindex
X-PUBLISHED-TTL:PT1H
BEGIN:VTIMEZONE
TZID:Europe/London
BEGIN:DAYLIGHT
TZOFFSETFROM:+0000
TZOFFSETTO:+0100
TZNAME:BST
DTSTART:20170326T010000
END:DAYLIGHT
BEGIN:STANDARD
TZOFFSETFROM:+0100
TZOFFSETTO:+0000
TZNAME:GMT
DTSTART:20171029T010000
END:STANDARD
END:VTIMEZONE
BEGIN:VEVENT
DTSTART;TZID=Europe/London:20170820T110000
DTEND;TZID=Europe/London:20170820T153000
DTSTAMP:20260421T194611
CREATED:20170622T120440Z
LAST-MODIFIED:20170622T143113Z
UID:1078974-1503226800-1503243000@www.funkidslive.com
SUMMARY:Illustrator Sion Ap Tomos is helping you overcome writers block in a workshop at the British Library!
DESCRIPTION:Explore storytelling through drawings and pictures with famous illustrator Sion Ap Tomos! \nThe British Library will show you how to make illustrated ‘story starters’ that you can use to create exciting adventures – pictures of characters\, places\, objects and actions that are used to fire your imagination! \n[amazon_textlink asin=’B003Q9Z1U6′ text=’One example is a story cube’ template=’ProductLink’ store=’funkids-21′ marketplace=’UK’ link_id=’5bbed36b-5742-11e7-a513-09b48bde73a3′]: a dice with numbers instead of pictures. Roll the cube and use whichever picture it lands on to get your story going. \nYou will explore different kinds of prompts in the workshop and use them to tell each other brilliant tales! \n\n\nWhat story would you tell if you were shown a picture of a scary forest\, a very old frog or a magical trumpet? \nThe session is a free drop in\, suitable for ages 5 – 11.\n\nClick here for more information!\n\nDrop in places are limited to 40 people per workshop and allocated on a first come\, first served basis.\n\n\nThe event also takes place at 14.00.
URL:https://www.funkidslive.com/event/illustrator-sion-ap-tomos-helping-overcome-writers-block-workshop-british-library/
LOCATION:The British Library\, 96 Euston Rd\, Kings Cross\, London\, NW1 2DB\, United Kingdom
CATEGORIES:Workshops
GEO:51.5299658;-0.1276734
X-APPLE-STRUCTURED-LOCATION;VALUE=URI;X-ADDRESS=The British Library 96 Euston Rd Kings Cross London NW1 2DB United Kingdom;X-APPLE-RADIUS=500;X-TITLE=96 Euston Rd\, Kings Cross:geo:-0.1276734,51.5299658
END:VEVENT
END:VCALENDAR