BEGIN:VCALENDAR
VERSION:2.0
PRODID:-//Fun Kids - the UK&#039;s children&#039;s radio station - ECPv6.9.0//NONSGML v1.0//EN
CALSCALE:GREGORIAN
METHOD:PUBLISH
X-WR-CALNAME:Fun Kids - the UK&#039;s children&#039;s radio station
X-ORIGINAL-URL:https://www.funkidslive.com
X-WR-CALDESC:Events for Fun Kids - the UK&#039;s children&#039;s radio station
REFRESH-INTERVAL;VALUE=DURATION:PT1H
X-Robots-Tag:noindex
X-PUBLISHED-TTL:PT1H
BEGIN:VTIMEZONE
TZID:Europe/London
BEGIN:DAYLIGHT
TZOFFSETFROM:+0000
TZOFFSETTO:+0100
TZNAME:BST
DTSTART:20240331T010000
END:DAYLIGHT
BEGIN:STANDARD
TZOFFSETFROM:+0100
TZOFFSETTO:+0000
TZNAME:GMT
DTSTART:20241027T010000
END:STANDARD
BEGIN:DAYLIGHT
TZOFFSETFROM:+0000
TZOFFSETTO:+0100
TZNAME:BST
DTSTART:20250330T010000
END:DAYLIGHT
BEGIN:STANDARD
TZOFFSETFROM:+0100
TZOFFSETTO:+0000
TZNAME:GMT
DTSTART:20251026T010000
END:STANDARD
END:VTIMEZONE
BEGIN:VEVENT
DTSTART;VALUE=DATE:20241224
DTEND;VALUE=DATE:20250114
DTSTAMP:20260421T130725
CREATED:20241224T103555Z
LAST-MODIFIED:20241224T103555Z
UID:1122734-1735016400-1736744399@www.funkidslive.com
SUMMARY:Jack and the Beanstalk
DESCRIPTION:It’s panto season and you can catch Jack and the Beanstalk at The Theatre Chipping Norton.  \nWith fantastic costumes and plenty of laughs\, this giant-sized panto is on until January 12th.  \nGo to chippingnortontheatre.com.
URL:https://www.funkidslive.com/event/jack-and-the-beanstalk/
LOCATION:Chipping Norton Theatre\, 2 Spring Street\, Chipping Norton\, Oxfordshire\, OX7 5NL\, United Kingdom
END:VEVENT
END:VCALENDAR