BEGIN:VCALENDAR
VERSION:2.0
PRODID:-//Fun Kids - the UK&#039;s children&#039;s radio station - ECPv6.9.0//NONSGML v1.0//EN
CALSCALE:GREGORIAN
METHOD:PUBLISH
X-WR-CALNAME:Fun Kids - the UK&#039;s children&#039;s radio station
X-ORIGINAL-URL:https://www.funkidslive.com
X-WR-CALDESC:Events for Fun Kids - the UK&#039;s children&#039;s radio station
REFRESH-INTERVAL;VALUE=DURATION:PT1H
X-Robots-Tag:noindex
X-PUBLISHED-TTL:PT1H
BEGIN:VTIMEZONE
TZID:Europe/London
BEGIN:DAYLIGHT
TZOFFSETFROM:+0000
TZOFFSETTO:+0100
TZNAME:BST
DTSTART:20170326T010000
END:DAYLIGHT
BEGIN:STANDARD
TZOFFSETFROM:+0100
TZOFFSETTO:+0000
TZNAME:GMT
DTSTART:20171029T010000
END:STANDARD
END:VTIMEZONE
BEGIN:VEVENT
DTSTART;TZID=Europe/London:20170702T100000
DTEND;TZID=Europe/London:20170702T190000
DTSTAMP:20260421T164016
CREATED:20170622T131146Z
LAST-MODIFIED:20170622T131146Z
UID:1078986-1498989600-1499022000@www.funkidslive.com
SUMMARY:New to ballet? Take this Boys Ballet Masterclass in Birmingham with Birmingham Royal Ballet!
DESCRIPTION:This is a high-tempo workshop for boys who want to develop their ballet dancing! \nThe workshop takes place at Birmingham Royal Ballet and focuses on ballet technique and choreography\, and led by a male teacher. \nMeet other boys with an interest in dance and movement in a 2-hour class designed to develop core strength\, musicality\, and presentation. \nClick here to find out more! \nThis is workshop takes place in a fun and encouraging setting with live pianist accompaniment. \nIt’s perfect for boys aged 7+ with no previous dance experience required. \n10am – 12pm: Group A: Ages 7+\, beginners to RAD Grade 3 or equivalent \n12.45–2.45pm: Group B: Ages 10+\, RAD Grade 4 or equivalent and above \n3.00 – 5.00pm: Group C: Ages 7+\, beginners to RAD Grade 3 or equivalent \nClick here to find out more!
URL:https://www.funkidslive.com/event/new-ballet-take-boys-ballet-masterclass-birmingham-birmingham-royal-ballet/
LOCATION:Birmingham Royal Ballet\, Birmingham Royal Ballet\, Thorp Street\, Birmingham\, B5 7UH\, United Kingdom
CATEGORIES:Dance
GEO:52.4742814;-1.8988094
X-APPLE-STRUCTURED-LOCATION;VALUE=URI;X-ADDRESS=Birmingham Royal Ballet Birmingham Royal Ballet Thorp Street Birmingham B5 7UH United Kingdom;X-APPLE-RADIUS=500;X-TITLE=Birmingham Royal Ballet\, Thorp Street:geo:-1.8988094,52.4742814
END:VEVENT
END:VCALENDAR