BEGIN:VCALENDAR
VERSION:2.0
PRODID:-//Fun Kids - the UK&#039;s children&#039;s radio station - ECPv6.9.0//NONSGML v1.0//EN
CALSCALE:GREGORIAN
METHOD:PUBLISH
X-WR-CALNAME:Fun Kids - the UK&#039;s children&#039;s radio station
X-ORIGINAL-URL:https://www.funkidslive.com
X-WR-CALDESC:Events for Fun Kids - the UK&#039;s children&#039;s radio station
REFRESH-INTERVAL;VALUE=DURATION:PT1H
X-Robots-Tag:noindex
X-PUBLISHED-TTL:PT1H
BEGIN:VTIMEZONE
TZID:Europe/London
BEGIN:DAYLIGHT
TZOFFSETFROM:+0000
TZOFFSETTO:+0100
TZNAME:BST
DTSTART:20180325T010000
END:DAYLIGHT
BEGIN:STANDARD
TZOFFSETFROM:+0100
TZOFFSETTO:+0000
TZNAME:GMT
DTSTART:20181028T010000
END:STANDARD
END:VTIMEZONE
BEGIN:VEVENT
DTSTART;VALUE=DATE:20180609
DTEND;VALUE=DATE:20180612
DTSTAMP:20260421T145124
CREATED:20180410T151841Z
LAST-MODIFIED:20180410T155436Z
UID:1088113-1528520400-1528693199@www.funkidslive.com
SUMMARY:Open House Families festival of architecture\, design and engineering!
DESCRIPTION:Open House Families is London’s brand new festival of architecture\, design and engineering taking place this summer on the 9 and 10 June! \nIt is being held across some of the city’s most iconic buildings! \nThe charity behind Open House are launching the free family festival to inspire and excite the next generation of city-shapers! \nClick here to find out more! \nYou are invited to create\, make and build by taking part in a humongous range of activities in and around London’s incredible architecture such as the Gherkin\, Gasholder park by King’s Cross\, The Royal Academy\, St Paul’s Cathedral\, The National Gallery and The V&A. \nThere will be over 45 exciting and hands on craft activities\, engineering experiments\, tours and storytelling sessions to inspire you about your city and how you can make a difference to it! \n\nJoin Atelier One to engineer your own kite with the best aerodynamic results and then take to the city skies and test your wings!\nJoin architects from Jestico + Whiles to celebrate London’s skyline – carnival style! Sketch and decorate your favourite parts of the City and make them into masks to take home.\nStraw\, Sticks or Bricks for early years at Here East Little ones can explore the story of the three little pigs by building their own houses to see if they can huff and puff and blow them down!\nReveal the layers of The Gherkin building from the inside out through creating a layered drawing celebrating its incredible structure.\nBe inspired by Canary Wharf ’s incredible buildings and their histories to create a palace fit for your pooch! Bring your own cuddly canine to Jubilee Park!\n\nClick here to find out more!
URL:https://www.funkidslive.com/event/open-house-families-festival-of-architecture-design-and-engineering/
CATEGORIES:Workshops
END:VEVENT
END:VCALENDAR