BEGIN:VCALENDAR
VERSION:2.0
PRODID:-//Fun Kids - the UK&#039;s children&#039;s radio station - ECPv6.9.0//NONSGML v1.0//EN
CALSCALE:GREGORIAN
METHOD:PUBLISH
X-WR-CALNAME:Fun Kids - the UK&#039;s children&#039;s radio station
X-ORIGINAL-URL:https://www.funkidslive.com
X-WR-CALDESC:Events for Fun Kids - the UK&#039;s children&#039;s radio station
REFRESH-INTERVAL;VALUE=DURATION:PT1H
X-Robots-Tag:noindex
X-PUBLISHED-TTL:PT1H
BEGIN:VTIMEZONE
TZID:Europe/London
BEGIN:DAYLIGHT
TZOFFSETFROM:+0000
TZOFFSETTO:+0100
TZNAME:BST
DTSTART:20220327T010000
END:DAYLIGHT
BEGIN:STANDARD
TZOFFSETFROM:+0100
TZOFFSETTO:+0000
TZNAME:GMT
DTSTART:20221030T010000
END:STANDARD
END:VTIMEZONE
BEGIN:VEVENT
DTSTART;TZID=Europe/London:20220129T110000
DTEND;TZID=Europe/London:20220129T140000
DTSTAMP:20260421T211050
CREATED:20220112T150629Z
LAST-MODIFIED:20220112T150629Z
UID:1105592-1643454000-1643464800@www.funkidslive.com
SUMMARY:Peanut Butter Pirates
DESCRIPTION:Pegasus-favourite Emma Boor is setting sail across the kitchen to recover her stolen treasure from naughty Peanut Butter Pirates! \n\n\n\n\n\n\n\n\n\n\n\n\n\n\nA show with songs\, music\, puppetry and lots of nutty behaviour\, perfect for 2-7 year olds and their families!\n\n\nNote: This show contains NO real nuts\, only puppet nuts!\n\n\nFor ages 2-7\n\n\nRunning time: 45 minutes\n\n\n\n\n\n\n\n\n\n\n\n\n\nMake sure to book in advance! If the show is cancelled or you’re unable to make it for any COVID-19-related reasons\, we will offer a no-quibble full refund.
URL:https://www.funkidslive.com/event/peanut-butter-pirates/
LOCATION:Pegasus Theatre\, Magdalen Road\, Oxford\, OX4 1RE\, United Kingdom
CATEGORIES:Shows
ATTACH;FMTTYPE=image/png:https://www.funkidslive.com/wp-content/uploads/2022/01/Peanut-Butter-Pirates.png
END:VEVENT
END:VCALENDAR