BEGIN:VCALENDAR
VERSION:2.0
PRODID:-//Fun Kids - the UK&#039;s children&#039;s radio station - ECPv6.9.0//NONSGML v1.0//EN
CALSCALE:GREGORIAN
METHOD:PUBLISH
X-WR-CALNAME:Fun Kids - the UK&#039;s children&#039;s radio station
X-ORIGINAL-URL:https://www.funkidslive.com
X-WR-CALDESC:Events for Fun Kids - the UK&#039;s children&#039;s radio station
REFRESH-INTERVAL;VALUE=DURATION:PT1H
X-Robots-Tag:noindex
X-PUBLISHED-TTL:PT1H
BEGIN:VTIMEZONE
TZID:Europe/London
BEGIN:DAYLIGHT
TZOFFSETFROM:+0000
TZOFFSETTO:+0100
TZNAME:BST
DTSTART:20170326T010000
END:DAYLIGHT
BEGIN:STANDARD
TZOFFSETFROM:+0100
TZOFFSETTO:+0000
TZNAME:GMT
DTSTART:20171029T010000
END:STANDARD
END:VTIMEZONE
BEGIN:VEVENT
DTSTART;VALUE=DATE:20171016
DTEND;VALUE=DATE:20171031
DTSTAMP:20260421T053917
CREATED:20171003T084954Z
LAST-MODIFIED:20171003T084954Z
UID:1082559-1508130000-1509339599@www.funkidslive.com
SUMMARY:Pirates\, reindeer\, magic and games: Cambridge Festival of Ideas events for children and families
DESCRIPTION:From detective hunts\, decoding secret messages\, and fortune telling in Ancient Rome\, to piracy on the high seas and uncovering outrageous fibs\, this year’s Cambridge Festival of Ideas is packed full of family-fun events! \nStarting with Little explorers: people of the arctic on 16 October at the Polar Museum\, intrepid explorers under 5 are invited to discover the Arctic and the people and animals that live there. \nYou’ll even have the chance to become Polar explorers and get hands on during The Polar Museum’s family day\, Living in the Arctic\, on 21 October. Live reindeer will be making an appearance! \n \nDuring the first weekend of the Festival\, the Cambridge Archaeological Unit opens its doors for its hugely popular Prehistory and archaeology day on 21 October\, allowing you to step back in time! \nYou can get hands-on with rock art\, spear-throwing\, archery\, and pottery making; even bake bread the prehistoric way. \nMarvel at displays of metal-smelting and flint-knapping and get a bit messy with wattle and daub. Join this hugely popular event and inspire your inner archaeologist. \n \nClick here to book tickets! \nInstead of archeology\, maybe detective work is more your thing? \n Script detectives: decoding ancient writing (26 October) offers you the chance to have a go at ‘breaking’ the code of ancient writings and also have a go at writing their own secret messages in ancient scripts. \nFor more codebreaking fun\, there is also Codes in clay on 28 October. You can visit the Codebreakers and Groundbreakers exhibition\, and then create their own secret\, coded message in clay. \nThe exhibition celebrates two remarkable intellectual achievements\, the result of teamwork across different areas of study and the brilliance of some beautiful minds: the breaking of the Enigma codes\, the most famous of war codes\, and the decoding of the Linear B script\, Europe’s oldest readable writing system. \nClick here to book tickets! \nTo pre-book call 01223 766766 or book online here: www.festivalofideas.cam.ac.uk \nReindeer images courtesy of Real Reindeer Ltd.
URL:https://www.funkidslive.com/event/pirates-reindeer-magic-games-cambridge-festival-ideas-events-children-families/
LOCATION:Cambridge\, Cambridge\, United Kingdom
CATEGORIES:Days Out
GEO:52.205337;0.121817
END:VEVENT
END:VCALENDAR