BEGIN:VCALENDAR
VERSION:2.0
PRODID:-//Fun Kids - the UK&#039;s children&#039;s radio station - ECPv6.9.0//NONSGML v1.0//EN
CALSCALE:GREGORIAN
METHOD:PUBLISH
X-WR-CALNAME:Fun Kids - the UK&#039;s children&#039;s radio station
X-ORIGINAL-URL:https://www.funkidslive.com
X-WR-CALDESC:Events for Fun Kids - the UK&#039;s children&#039;s radio station
REFRESH-INTERVAL;VALUE=DURATION:PT1H
X-Robots-Tag:noindex
X-PUBLISHED-TTL:PT1H
BEGIN:VTIMEZONE
TZID:Europe/London
BEGIN:DAYLIGHT
TZOFFSETFROM:+0000
TZOFFSETTO:+0100
TZNAME:BST
DTSTART:20170326T010000
END:DAYLIGHT
BEGIN:STANDARD
TZOFFSETFROM:+0100
TZOFFSETTO:+0000
TZNAME:GMT
DTSTART:20171029T010000
END:STANDARD
END:VTIMEZONE
BEGIN:VEVENT
DTSTART;TZID=Europe/London:20170923T100000
DTEND;TZID=Europe/London:20170923T143000
DTSTAMP:20260421T194433
CREATED:20170622T124655Z
LAST-MODIFIED:20170622T124655Z
UID:1078976-1506160800-1506177000@www.funkidslive.com
SUMMARY:Poetry Remix workshops at the British Library!
DESCRIPTION:Explore shape\, pattern and type to create your own poetry\, and then have fun playing with different ways of performing and recording your work. \nJoin artists James Bulley and Helen Frosi to experiment with a variety of poetry-making activities such as cut-ups and collage\, using everyday materials to create your own visual poems! \nExplore fun and playful vocal techniques through performance and create your own multimedia work mixing poetry\, image and sound. \nThis workshop is a free drop in\, suitable for ages 5 – 11. \nClick here to find out more \nDrop in places are limited to 40 people per workshop and allocated on a first come\, first served basis. \nThis event also takes place at 13.00.
URL:https://www.funkidslive.com/event/poetry-remix-workshops-british-library/
LOCATION:The British Library\, 96 Euston Rd\, Kings Cross\, London\, NW1 2DB\, United Kingdom
CATEGORIES:Workshops
GEO:51.5299658;-0.1276734
X-APPLE-STRUCTURED-LOCATION;VALUE=URI;X-ADDRESS=The British Library 96 Euston Rd Kings Cross London NW1 2DB United Kingdom;X-APPLE-RADIUS=500;X-TITLE=96 Euston Rd\, Kings Cross:geo:-0.1276734,51.5299658
END:VEVENT
END:VCALENDAR