BEGIN:VCALENDAR
VERSION:2.0
PRODID:-//Fun Kids - the UK&#039;s children&#039;s radio station - ECPv6.9.0//NONSGML v1.0//EN
CALSCALE:GREGORIAN
METHOD:PUBLISH
X-WR-CALNAME:Fun Kids - the UK&#039;s children&#039;s radio station
X-ORIGINAL-URL:https://www.funkidslive.com
X-WR-CALDESC:Events for Fun Kids - the UK&#039;s children&#039;s radio station
REFRESH-INTERVAL;VALUE=DURATION:PT1H
X-Robots-Tag:noindex
X-PUBLISHED-TTL:PT1H
BEGIN:VTIMEZONE
TZID:Europe/London
BEGIN:DAYLIGHT
TZOFFSETFROM:+0000
TZOFFSETTO:+0100
TZNAME:BST
DTSTART:20170326T010000
END:DAYLIGHT
BEGIN:STANDARD
TZOFFSETFROM:+0100
TZOFFSETTO:+0000
TZNAME:GMT
DTSTART:20171029T010000
END:STANDARD
END:VTIMEZONE
BEGIN:VEVENT
DTSTART;TZID=Europe/London:20171118T080000
DTEND;TZID=Europe/London:20171231T170000
DTSTAMP:20260421T193543
CREATED:20171109T094336Z
LAST-MODIFIED:20171109T094336Z
UID:1084107-1510992000-1514739600@www.funkidslive.com
SUMMARY:Santa's Funtastic Factory at various venues across the UK!
DESCRIPTION:Ho-ho-ho! Have you written your list for Santa yet? \nThe Funbox team are back for more seasonal fun with their brand new festive show SANTA’S FUNTASTIC FACTORY! \nGary\, Anya and Kevin have been invited by the big chap in the red suit himself to help finish the lists for all the boys and girls before Christmas Day. There’s keys to find and a Funbox to unlock but Santa’s Marvellous Machine is malfunctioning! \nClick here to find out more! \nIt’s creating Christmas chaos\, mechanical mayhem and topsy-turvy toys\, so its up to the Funbox gang to save the day! \nFurry Funster friends Fluffy and Flossie are helping in their own special way\, Fairy Fran has some tasty treats to share and everyone’s favourite cheeky dog\, Bonzo is making mischief too. \nBut where are those magic keys? Will they manage to finish all the Christmas lists in time? And is Bonzo on the naughty or nice list this year? \nPacked with singalong favourites like “Bobby B.I.N.G.O.”\, “I Saw Three Ships” and “Jingle Bells” along with Christmas classics and brand new songs\, SANTA’S FUNTASTIC FACTORY is festive family fun not to be missed. There are chances to help on stage and who knows\, you might even see Santa…but only if you’ve been good! \nWear a Santa Hat and bring a whistle! \nClick here to find out more!
URL:https://www.funkidslive.com/event/santas-funtastic-factory-various-venues-across-uk/
CATEGORIES:Shows
END:VEVENT
END:VCALENDAR