BEGIN:VCALENDAR
VERSION:2.0
PRODID:-//Fun Kids - the UK&#039;s children&#039;s radio station - ECPv6.9.0//NONSGML v1.0//EN
CALSCALE:GREGORIAN
METHOD:PUBLISH
X-WR-CALNAME:Fun Kids - the UK&#039;s children&#039;s radio station
X-ORIGINAL-URL:https://www.funkidslive.com
X-WR-CALDESC:Events for Fun Kids - the UK&#039;s children&#039;s radio station
REFRESH-INTERVAL;VALUE=DURATION:PT1H
X-Robots-Tag:noindex
X-PUBLISHED-TTL:PT1H
BEGIN:VTIMEZONE
TZID:Europe/London
BEGIN:DAYLIGHT
TZOFFSETFROM:+0000
TZOFFSETTO:+0100
TZNAME:BST
DTSTART:20180325T010000
END:DAYLIGHT
BEGIN:STANDARD
TZOFFSETFROM:+0100
TZOFFSETTO:+0000
TZNAME:GMT
DTSTART:20181028T010000
END:STANDARD
END:VTIMEZONE
BEGIN:VEVENT
DTSTART;VALUE=DATE:20181201
DTEND;VALUE=DATE:20181226
DTSTAMP:20260424T092248
CREATED:20181130T100748Z
LAST-MODIFIED:20181130T100748Z
UID:1091249-1543640400-1545713999@www.funkidslive.com
SUMMARY:Santa's Naughty Elf: Celebration of Calamity at Customs House\, South Shields
DESCRIPTION:Santa’s Naughty Elf is celebrating 10 years of calamity in this year’s pantomime for under sevens and their families at The Customs House.  \nWayne Miller\, who writes and directs the show and stars as Elfluent\, will have all sorts of mayhem in mind as he is joined by new faces for the celebrations. \nClick here to get tickets! \nEach children’s ticket comes with a free present from Santa. 
URL:https://www.funkidslive.com/event/santas-naughty-elf-celebration-of-calamity-at-customs-house-south-shields/
LOCATION:Customs House\, South Shields\, Mill Dam\, South Shields\, NE33 1ES\, United Kingdom
CATEGORIES:Christmas
END:VEVENT
END:VCALENDAR