BEGIN:VCALENDAR
VERSION:2.0
PRODID:-//Fun Kids - the UK&#039;s children&#039;s radio station - ECPv6.9.0//NONSGML v1.0//EN
CALSCALE:GREGORIAN
METHOD:PUBLISH
X-WR-CALNAME:Fun Kids - the UK&#039;s children&#039;s radio station
X-ORIGINAL-URL:https://www.funkidslive.com
X-WR-CALDESC:Events for Fun Kids - the UK&#039;s children&#039;s radio station
REFRESH-INTERVAL;VALUE=DURATION:PT1H
X-Robots-Tag:noindex
X-PUBLISHED-TTL:PT1H
BEGIN:VTIMEZONE
TZID:Europe/London
BEGIN:DAYLIGHT
TZOFFSETFROM:+0000
TZOFFSETTO:+0100
TZNAME:BST
DTSTART:20200329T010000
END:DAYLIGHT
BEGIN:STANDARD
TZOFFSETFROM:+0100
TZOFFSETTO:+0000
TZNAME:GMT
DTSTART:20201025T010000
END:STANDARD
END:VTIMEZONE
BEGIN:VEVENT
DTSTART;VALUE=DATE:20200125
DTEND;VALUE=DATE:20200128
DTSTAMP:20260422T004323
CREATED:20200117T092719Z
LAST-MODIFIED:20200117T092719Z
UID:1096012-1579928400-1580101199@www.funkidslive.com
SUMMARY:Science of the Time Lords at the National Space Centre
DESCRIPTION:If you love Doctor Who then this event may be just for you! \nIt takes you through the science of Doctor Who with loads of amazing things to see and do. \n \nThere are talks all about Doctor Who including ‘An Audience with a Dalek’ and ‘An Audience with the 15th Cyber Legion’. You can even learn how to survive the Satan Pit incase you get whisked away on an adventure with the Doctor. \nAs well as learning about Doctor Who you will get to see loads of classic monsters and villains like the Cybermen\, the Clockwork Droids and the Ood. Even a couple of the Doctors themselves will be making an appearance! \nPaul McGann – Played The Eighth Doctor \nDavid Bradley who has played the first Doctor and Paul McGann who played the eighth Doctor will be there to talk about Doctor Who and meet the fans. \nDavid Bradley – Plays The First Doctor \nScience of the Time Lords \n \n 
URL:https://www.funkidslive.com/event/science-of-the-time-lords-at-the-national-space-centre/
LOCATION:The National Space Centre\, Exploration Dr\, Leicester\, Leicestershire\, LE4 5NS\, United Kingdom
CATEGORIES:Days Out
END:VEVENT
END:VCALENDAR