BEGIN:VCALENDAR
VERSION:2.0
PRODID:-//Fun Kids - the UK&#039;s children&#039;s radio station - ECPv6.9.0//NONSGML v1.0//EN
CALSCALE:GREGORIAN
METHOD:PUBLISH
X-WR-CALNAME:Fun Kids - the UK&#039;s children&#039;s radio station
X-ORIGINAL-URL:https://www.funkidslive.com
X-WR-CALDESC:Events for Fun Kids - the UK&#039;s children&#039;s radio station
REFRESH-INTERVAL;VALUE=DURATION:PT1H
X-Robots-Tag:noindex
X-PUBLISHED-TTL:PT1H
BEGIN:VTIMEZONE
TZID:Europe/London
BEGIN:DAYLIGHT
TZOFFSETFROM:+0000
TZOFFSETTO:+0100
TZNAME:BST
DTSTART:20170326T010000
END:DAYLIGHT
BEGIN:STANDARD
TZOFFSETFROM:+0100
TZOFFSETTO:+0000
TZNAME:GMT
DTSTART:20171029T010000
END:STANDARD
BEGIN:DAYLIGHT
TZOFFSETFROM:+0000
TZOFFSETTO:+0100
TZNAME:BST
DTSTART:20180325T010000
END:DAYLIGHT
BEGIN:STANDARD
TZOFFSETFROM:+0100
TZOFFSETTO:+0000
TZNAME:GMT
DTSTART:20181028T010000
END:STANDARD
END:VTIMEZONE
BEGIN:VEVENT
DTSTART;VALUE=DATE:20171214
DTEND;VALUE=DATE:20180213
DTSTAMP:20260421T194625
CREATED:20171214T103542Z
LAST-MODIFIED:20171214T103745Z
UID:1085315-1513227600-1518411599@www.funkidslive.com
SUMMARY:See My Brother\, My Sister and Me at the Polka Theatre!
DESCRIPTION:With a new baby in the family\, a little sister has to move in with her big brother. She’s got used to the idea but her brother and his Gecko are really not keen. Especially when she starts to unpack her very large collection of hats! \nBut they both soon realise that sharing isn’t all bad as their fights and frustrations turn into games and giggles\, and their room becomes a place of magic and mayhem\, especially after lights out when they can tuck into midnight feasts and howl like snow wolves! \nThis playful new show is based on conversations with young children about their own sibling relationships\, and has been designed to keep children aged 2 – 5 enthralled throughout. \nRunning time approximately 40 minutes
URL:https://www.funkidslive.com/event/see-brother-sister-polka-theatre/
LOCATION:Polka Theatre\, 240 The Broadway\, Wimbledon\, London\, London\, SW19 1SB\, United Kingdom
CATEGORIES:Shows
GEO:51.41961;-0.1953338
X-APPLE-STRUCTURED-LOCATION;VALUE=URI;X-ADDRESS=Polka Theatre 240 The Broadway Wimbledon London London SW19 1SB United Kingdom;X-APPLE-RADIUS=500;X-TITLE=240 The Broadway\, Wimbledon\, London:geo:-0.1953338,51.41961
END:VEVENT
END:VCALENDAR