BEGIN:VCALENDAR
VERSION:2.0
PRODID:-//Fun Kids - the UK&#039;s children&#039;s radio station - ECPv6.9.0//NONSGML v1.0//EN
CALSCALE:GREGORIAN
METHOD:PUBLISH
X-WR-CALNAME:Fun Kids - the UK&#039;s children&#039;s radio station
X-ORIGINAL-URL:https://www.funkidslive.com
X-WR-CALDESC:Events for Fun Kids - the UK&#039;s children&#039;s radio station
REFRESH-INTERVAL;VALUE=DURATION:PT1H
X-Robots-Tag:noindex
X-PUBLISHED-TTL:PT1H
BEGIN:VTIMEZONE
TZID:Europe/London
BEGIN:DAYLIGHT
TZOFFSETFROM:+0000
TZOFFSETTO:+0100
TZNAME:BST
DTSTART:20170326T010000
END:DAYLIGHT
BEGIN:STANDARD
TZOFFSETFROM:+0100
TZOFFSETTO:+0000
TZNAME:GMT
DTSTART:20171029T010000
END:STANDARD
END:VTIMEZONE
BEGIN:VEVENT
DTSTART;VALUE=DATE:20171128
DTEND;VALUE=DATE:20171212
DTSTAMP:20260421T164138
CREATED:20171120T102532Z
LAST-MODIFIED:20171120T102532Z
UID:1084439-1511845200-1512968399@www.funkidslive.com
SUMMARY:See Dreamworks Animations in Concert at various venues across the UK!
DESCRIPTION:This amazing live music experience relives classic moments from hit films like Shrek\, Madagascar\, Kung Fu Panda\, How to Train Your Dragon\, and more! \nBasically\, they’re projected in HD onto a big screen as music is played live by a symphony orchestra! \n \nClick here to find out more! \nFresh from a tour of the US\, the show has had really good reviews\, even selling out the Hollywood Bowl. \nFeaturing everyone’s favourite moments from DreamWorks’s best animated films\, with the most memorable musical moments\, performed live by the UK’s Royal Philharmonic Concert Orchestra. \nThe show celebrates more than 20 years of music with scores by Hans Zimmer and many others. \nClick here to find out more! \nDates\nTuesday 28 November 2017 – Belfast – SSE ARENA\nFriday 1 December 2017 – London – SSE ARENA\nSaturday 2 December 2017 – Glasgow – SSE HYDRO\nMonday 4 December 2017 – Dublin – 3ARENA\nFriday 8 December 2017 – Cardiff – MOTORPOINT ARENA\nSaturday 9 December 2017 – Liverpool – ECHO ARENA\nSunday 10 December 2017 – Birmingham – BARCLAYCARD ARENA
URL:https://www.funkidslive.com/event/see-dreamworks-animations-concert-various-venues-across-uk/
CATEGORIES:Shows
END:VEVENT
END:VCALENDAR