BEGIN:VCALENDAR
VERSION:2.0
PRODID:-//Fun Kids - the UK&#039;s children&#039;s radio station - ECPv6.9.0//NONSGML v1.0//EN
CALSCALE:GREGORIAN
METHOD:PUBLISH
X-WR-CALNAME:Fun Kids - the UK&#039;s children&#039;s radio station
X-ORIGINAL-URL:https://www.funkidslive.com
X-WR-CALDESC:Events for Fun Kids - the UK&#039;s children&#039;s radio station
REFRESH-INTERVAL;VALUE=DURATION:PT1H
X-Robots-Tag:noindex
X-PUBLISHED-TTL:PT1H
BEGIN:VTIMEZONE
TZID:Europe/London
BEGIN:DAYLIGHT
TZOFFSETFROM:+0000
TZOFFSETTO:+0100
TZNAME:BST
DTSTART:20180325T010000
END:DAYLIGHT
BEGIN:STANDARD
TZOFFSETFROM:+0100
TZOFFSETTO:+0000
TZNAME:GMT
DTSTART:20181028T010000
END:STANDARD
END:VTIMEZONE
BEGIN:VEVENT
DTSTART;VALUE=DATE:20180406
DTEND;VALUE=DATE:20180515
DTSTAMP:20260421T194913
CREATED:20180406T085444Z
LAST-MODIFIED:20180406T085444Z
UID:1088052-1522990800-1526273999@www.funkidslive.com
SUMMARY:See Michael Rosen's Chocolate Cake live on-stage at the Polka Theatre!
DESCRIPTION:Follow the adventures of two brothers and the night-time disappearance of a chocolate cake in this new musical adaptation! \nIt’s based on a poem by Michael Rosen called Chocolate Cake\, which has just been published as a picture book. \nThe show is from the same people as We’re Going on a Bear Hunt and How to Hide a Lion and is at the Polka Theatre until the middle of May! \n \n 
URL:https://www.funkidslive.com/event/see-michael-rosens-chocolate-cake-live-on-stage-at-the-polka-theatre/
LOCATION:Polka Theatre\, 240 The Broadway\, Wimbledon\, London\, London\, SW19 1SB\, United Kingdom
CATEGORIES:Shows
GEO:51.41961;-0.1953338
X-APPLE-STRUCTURED-LOCATION;VALUE=URI;X-ADDRESS=Polka Theatre 240 The Broadway Wimbledon London London SW19 1SB United Kingdom;X-APPLE-RADIUS=500;X-TITLE=240 The Broadway\, Wimbledon\, London:geo:-0.1953338,51.41961
END:VEVENT
END:VCALENDAR