BEGIN:VCALENDAR
VERSION:2.0
PRODID:-//Fun Kids - the UK&#039;s children&#039;s radio station - ECPv6.9.0//NONSGML v1.0//EN
CALSCALE:GREGORIAN
METHOD:PUBLISH
X-WR-CALNAME:Fun Kids - the UK&#039;s children&#039;s radio station
X-ORIGINAL-URL:https://www.funkidslive.com
X-WR-CALDESC:Events for Fun Kids - the UK&#039;s children&#039;s radio station
REFRESH-INTERVAL;VALUE=DURATION:PT1H
X-Robots-Tag:noindex
X-PUBLISHED-TTL:PT1H
BEGIN:VTIMEZONE
TZID:Europe/London
BEGIN:DAYLIGHT
TZOFFSETFROM:+0000
TZOFFSETTO:+0100
TZNAME:BST
DTSTART:20180325T010000
END:DAYLIGHT
BEGIN:STANDARD
TZOFFSETFROM:+0100
TZOFFSETTO:+0000
TZNAME:GMT
DTSTART:20181028T010000
END:STANDARD
END:VTIMEZONE
BEGIN:VEVENT
DTSTART;VALUE=DATE:20180728
DTEND;VALUE=DATE:20180831
DTSTAMP:20260421T194939
CREATED:20180430T103757Z
LAST-MODIFIED:20180430T103757Z
UID:1088350-1532754000-1535605199@www.funkidslive.com
SUMMARY:See Paw Patrol Live: The Great Pirate Adventure at a venue near you!
DESCRIPTION:X barks the spot in the new tour PAW Patrol Live! “The Great Pirate Adventure!” \nIt’s Pirate Day in Adventure Bay\, and Mayor Goodway is getting ready for a big celebration! But first\, Ryder and his team of pirate pups must rescue Cap’n Turbot from a mysterious cavern. \nWhen they do\, they also discover a secret pirate treasure map! \nThe PAW Patrol set out over land and sea to find the treasure for Mayor Goodway’s celebration before Mayor Humdinger finds it first! \nThe pups will need all paws on deck for this pirate adventure\, including some help from the newest pup…Tracker! \nClick here to find out more! \n \nEDINBURGH\nSat 28 July\nEdinburgh Playhouse \nLIVERPOOL\nWed 8 Aug\nEcho Arena \nNEWCASTLE\nThur 2 Aug\nMetro Radio Arena \nMANCHESTER\nSat 11 – Sat 12 Aug\nManchester Arena \nGLASGOW\nSat 4 – Sun 5 Aug\nSECC \nSHEFFIELD\nWed 15 Aug\nFlyDSA Arena \nBIRMINGHAM\nSat 18 Aug\nArena Birmingham \nLONDON\nSat 25 – Sun 26 Aug\nThe SSE Arena\, Wembley \nPAW Treasure\nCARDIFF\nWed 22 Aug \nCARDIFF\nWed 22 Aug\nMotor Point Arena \nBOURNEMOUTH\nSat 1 – Sun 2 Sep\nBournemouth International Centre \nBRIGHTON\nSat 8 – Sun 9 Sep\nBrighton Centre \nLEEDS\nWed 29 Aug\nFirst Direct Arena \n 
URL:https://www.funkidslive.com/event/see-paw-patrol-live-the-great-pirate-adventure-at-a-venue-near-you/
CATEGORIES:Shows
END:VEVENT
END:VCALENDAR