BEGIN:VCALENDAR
VERSION:2.0
PRODID:-//Fun Kids - the UK&#039;s children&#039;s radio station - ECPv6.9.0//NONSGML v1.0//EN
CALSCALE:GREGORIAN
METHOD:PUBLISH
X-WR-CALNAME:Fun Kids - the UK&#039;s children&#039;s radio station
X-ORIGINAL-URL:https://www.funkidslive.com
X-WR-CALDESC:Events for Fun Kids - the UK&#039;s children&#039;s radio station
REFRESH-INTERVAL;VALUE=DURATION:PT1H
X-Robots-Tag:noindex
X-PUBLISHED-TTL:PT1H
BEGIN:VTIMEZONE
TZID:Europe/London
BEGIN:DAYLIGHT
TZOFFSETFROM:+0000
TZOFFSETTO:+0100
TZNAME:BST
DTSTART:20200329T010000
END:DAYLIGHT
BEGIN:STANDARD
TZOFFSETFROM:+0100
TZOFFSETTO:+0000
TZNAME:GMT
DTSTART:20201025T010000
END:STANDARD
END:VTIMEZONE
BEGIN:VEVENT
DTSTART;VALUE=DATE:20200508
DTEND;VALUE=DATE:20200510
DTSTAMP:20260422T040451
CREATED:20200506T085209Z
LAST-MODIFIED:20200506T094148Z
UID:1097306-1588914000-1589000399@www.funkidslive.com
SUMMARY:Sports Day
DESCRIPTION:We’re in lockdown. And our sports are suffering. \nThe current coronavirus pandemic and consequent lockdown has had a\nhuge impact on everyone\, across all regions of the UK\, in every aspect of\nour lives. We know the risks to our health\, and the strain to the economy. \nBut we’ve forgotten about our local\, grassroots sports clubs. \nWeek in\, week out\, our local teams clubs give children and adults alike the\nspace and opportunity to play the sports they love. They are such an\nintegral part of every community\, not only because sport is good for our\nhealth\, but also because they provide the social side of belonging to a\nteam or club\, the discipline of training\, and the enjoyment of competing. \nHelp us to #SaveOurSports \nThe #SaveOurSports campaign is a movement with the aim to raise money\nfor grassroots sports and teams. The campaign will promote various\nfundraising activities to help kids and adults to Keep Active\, Raise Money\nand #SaveOurSports. \nWe’re very excited to announce our first fundraising event – National\nSports Day! \nOur schools are shut\, our kids are at home\, and it’s looking like they will miss out on one of the most cherished activities in the school calendar year – Sports Day. \nHelp us keep this British tradition alive! \nWe’re challenging kids and parents alike to do the 5×5 challenge. \nTogether we can help our sports clubs and teams get through this crisis\nand still be around at the other side of it\, to help more kids and adults\ntake part in sport in our communities. \nFind out more and sign up on our website: \nwww.saveoursports.co.uk
URL:https://www.funkidslive.com/event/sports-day/
END:VEVENT
END:VCALENDAR