BEGIN:VCALENDAR
VERSION:2.0
PRODID:-//Fun Kids - the UK&#039;s children&#039;s radio station - ECPv6.9.0//NONSGML v1.0//EN
CALSCALE:GREGORIAN
METHOD:PUBLISH
X-WR-CALNAME:Fun Kids - the UK&#039;s children&#039;s radio station
X-ORIGINAL-URL:https://www.funkidslive.com
X-WR-CALDESC:Events for Fun Kids - the UK&#039;s children&#039;s radio station
REFRESH-INTERVAL;VALUE=DURATION:PT1H
X-Robots-Tag:noindex
X-PUBLISHED-TTL:PT1H
BEGIN:VTIMEZONE
TZID:Europe/London
BEGIN:DAYLIGHT
TZOFFSETFROM:+0000
TZOFFSETTO:+0100
TZNAME:BST
DTSTART:20250330T010000
END:DAYLIGHT
BEGIN:STANDARD
TZOFFSETFROM:+0100
TZOFFSETTO:+0000
TZNAME:GMT
DTSTART:20251026T010000
END:STANDARD
END:VTIMEZONE
BEGIN:VEVENT
DTSTART;VALUE=DATE:20250614
DTEND;VALUE=DATE:20250616
DTSTAMP:20260421T145252
CREATED:20250602T121248Z
LAST-MODIFIED:20250602T121248Z
UID:1124026-1749877200-1749963599@www.funkidslive.com
SUMMARY:St Austell Festival of Children’s Literature – Don’t miss out! Bring your whole crew for a day to remember.
DESCRIPTION:A Big Day Out for Just £1! \nSt Austell Festival of Children’s Literature We know planning a family day out can be expensive — but it doesn’t have to be! Join us for the St Austell Festival of Children’s Literature — a jam-packed day of stories\, creativity\, and family fun — and tickets are just £1 per person! \nMeet your favourite authors and illustrators\, including: Emma Carroll Sue Hendra — with a special appearance from Supertato! Laura Ellen Anderson Kate Pankhurst AF Harrold (brilliant poet & performer) Tom McLaughlin Alex Falase-Koya and Paula Bowles And even Mr. Men Little Miss storytelling sessions for our littlest readers! \nDon’t miss the Big Festival Draw-Off\, hosted by JoJo Silva from Capital XTRA\, with comic creators Steve May and Steve Webb battling it out in doodles! This is more than just a festival — it’s a celebration of book joy and imagination\, all right here in the heart of Cornwall. We’re building a reading community and having loads of fun while we do it! \nTickets only £1!
URL:https://www.funkidslive.com/event/st-austell-festival-of-childrens-literature-dont-miss-out-bring-your-whole-crew-for-a-day-to-remember/
CATEGORIES:Days Out,Festival
END:VEVENT
END:VCALENDAR