BEGIN:VCALENDAR
VERSION:2.0
PRODID:-//Fun Kids - the UK&#039;s children&#039;s radio station - ECPv6.9.0//NONSGML v1.0//EN
CALSCALE:GREGORIAN
METHOD:PUBLISH
X-WR-CALNAME:Fun Kids - the UK&#039;s children&#039;s radio station
X-ORIGINAL-URL:https://www.funkidslive.com
X-WR-CALDESC:Events for Fun Kids - the UK&#039;s children&#039;s radio station
REFRESH-INTERVAL;VALUE=DURATION:PT1H
X-Robots-Tag:noindex
X-PUBLISHED-TTL:PT1H
BEGIN:VTIMEZONE
TZID:Europe/London
BEGIN:DAYLIGHT
TZOFFSETFROM:+0000
TZOFFSETTO:+0100
TZNAME:BST
DTSTART:20250330T010000
END:DAYLIGHT
BEGIN:STANDARD
TZOFFSETFROM:+0100
TZOFFSETTO:+0000
TZNAME:GMT
DTSTART:20251026T010000
END:STANDARD
END:VTIMEZONE
BEGIN:VEVENT
DTSTART;VALUE=DATE:20250407
DTEND;VALUE=DATE:20250428
DTSTAMP:20260421T113556
CREATED:20250407T101000Z
LAST-MODIFIED:20250407T101000Z
UID:1123696-1744002000-1745729999@www.funkidslive.com
SUMMARY:The Big Egg Hunt
DESCRIPTION:For a free Easter egg hunt between now and 27th April you can take part in The Big Egg Hunt\, a self guided art trail across London where you can find giant decorated eggs across the city. \nwww.elephant-family.org has all the details.
URL:https://www.funkidslive.com/event/the-big-egg-hunt/
END:VEVENT
END:VCALENDAR