BEGIN:VCALENDAR
VERSION:2.0
PRODID:-//Fun Kids - the UK&#039;s children&#039;s radio station - ECPv6.9.0//NONSGML v1.0//EN
CALSCALE:GREGORIAN
METHOD:PUBLISH
X-WR-CALNAME:Fun Kids - the UK&#039;s children&#039;s radio station
X-ORIGINAL-URL:https://www.funkidslive.com
X-WR-CALDESC:Events for Fun Kids - the UK&#039;s children&#039;s radio station
REFRESH-INTERVAL;VALUE=DURATION:PT1H
X-Robots-Tag:noindex
X-PUBLISHED-TTL:PT1H
BEGIN:VTIMEZONE
TZID:Europe/London
BEGIN:DAYLIGHT
TZOFFSETFROM:+0000
TZOFFSETTO:+0100
TZNAME:BST
DTSTART:20190331T010000
END:DAYLIGHT
BEGIN:STANDARD
TZOFFSETFROM:+0100
TZOFFSETTO:+0000
TZNAME:GMT
DTSTART:20191027T010000
END:STANDARD
END:VTIMEZONE
BEGIN:VEVENT
DTSTART;VALUE=DATE:20191123
DTEND;VALUE=DATE:20191126
DTSTAMP:20260422T002354
CREATED:20190925T093920Z
LAST-MODIFIED:20191002T135929Z
UID:1094840-1574485200-1574657999@www.funkidslive.com
SUMMARY:The Fun Kids Epic Roadshow Adventure is coming to Leicester Square – book your tickets right now!
DESCRIPTION:The Fun Kids Epic Roadshow Adventure is an interactive stage show for all ages\, hosted by Fun Kids radio presenters Bex Lindsay and Dan Simpson! \nAfter successful runs at the Southbank Festival and Car-Fest this year the show is back with a festive Christmas twist. \nClick here to get your tickets \n \nIn the show\, Bex and Dan need your help to keep Fun Kids Radio on-air and to make the best radio roadshow ever. Oh\, and they definitely need to not get fired by the big bosses who are sat in Fun Kids HQ\, keeping a close eye on the audience figures! \nPacked with stories\, songs\, silliness\, and plenty of Christmas fun\, it’ll be a show to remember! \nMake sure you’re at Leicester Square this Christmas to join in all the fun! \nPerformances at 2pm on November 23rd & 24th. \nClick here to find out more \n\n\n\n\n\n\n\n\n\n\n\n\n\n\n\n\n“Silliness and loads of laughs combined” – Edinburgh News \n\n\n\n\n\n\n\n\n\n\n\n\n\n\n\n\n\n\n\n\n\n\n\n\n\n\n\n\n\n\n\n\n“It wasn’t just the kids who were crying with laughter!” – Primary Times \n“An entertaining family show” – The List \n\n\n\n\n\n\n\n\n\n\n\n\n\n\n\n\n\n\n\n\n\n\n\n\n\n\n\n\n\n\n\n\n“Put the whole audience in a good mood” – Fest Mag
URL:https://www.funkidslive.com/event/the-fun-kids-epic-roadshow-adventure-is-coming-to-leicester-square/
LOCATION:Leicester Square\, Leicester Square\, London\, WC2H 7LU\, United Kingdom
CATEGORIES:Christmas,Days Out
END:VEVENT
END:VCALENDAR