BEGIN:VCALENDAR
VERSION:2.0
PRODID:-//Fun Kids - the UK&#039;s children&#039;s radio station - ECPv6.9.0//NONSGML v1.0//EN
CALSCALE:GREGORIAN
METHOD:PUBLISH
X-WR-CALNAME:Fun Kids - the UK&#039;s children&#039;s radio station
X-ORIGINAL-URL:https://www.funkidslive.com
X-WR-CALDESC:Events for Fun Kids - the UK&#039;s children&#039;s radio station
REFRESH-INTERVAL;VALUE=DURATION:PT1H
X-Robots-Tag:noindex
X-PUBLISHED-TTL:PT1H
BEGIN:VTIMEZONE
TZID:Europe/London
BEGIN:DAYLIGHT
TZOFFSETFROM:+0000
TZOFFSETTO:+0100
TZNAME:BST
DTSTART:20220327T010000
END:DAYLIGHT
BEGIN:STANDARD
TZOFFSETFROM:+0100
TZOFFSETTO:+0000
TZNAME:GMT
DTSTART:20221030T010000
END:STANDARD
END:VTIMEZONE
BEGIN:VEVENT
DTSTART;VALUE=DATE:20220205
DTEND;VALUE=DATE:20220328
DTSTAMP:20260421T224645
CREATED:20220131T070025Z
LAST-MODIFIED:20220128T100256Z
UID:1105634-1644037200-1648357199@www.funkidslive.com
SUMMARY:The Place: Creative Dance Workshops
DESCRIPTION:Creative Dance Workshops for Children (3-5 years) and Grown-Ups. \nEvery Saturday The Place\, London’s hub for dance\, welcomes children aged 3-5 and their grown-ups for fun and creative dance workshops. \nThe sessions include warm-ups and exercises to get your bodies moving imaginatively\, this class is sure to put your bodies and minds to work!  \nSuitable for children aged 3-5 & their grown-ups \nSaturdays\, 9.15am – 10am  \nDuration: 45mins  \n  \n 
URL:https://www.funkidslive.com/event/the-place-creative-dance-workshops/
LOCATION:The Place – Creative Dance Workshop\, 16 Flaxman Terrace\, London\, WC1H 9AT\, United Kingdom
END:VEVENT
END:VCALENDAR