BEGIN:VCALENDAR
VERSION:2.0
PRODID:-//Fun Kids - the UK&#039;s children&#039;s radio station - ECPv6.9.0//NONSGML v1.0//EN
CALSCALE:GREGORIAN
METHOD:PUBLISH
X-WR-CALNAME:Fun Kids - the UK&#039;s children&#039;s radio station
X-ORIGINAL-URL:https://www.funkidslive.com
X-WR-CALDESC:Events for Fun Kids - the UK&#039;s children&#039;s radio station
REFRESH-INTERVAL;VALUE=DURATION:PT1H
X-Robots-Tag:noindex
X-PUBLISHED-TTL:PT1H
BEGIN:VTIMEZONE
TZID:Europe/London
BEGIN:DAYLIGHT
TZOFFSETFROM:+0000
TZOFFSETTO:+0100
TZNAME:BST
DTSTART:20190331T010000
END:DAYLIGHT
BEGIN:STANDARD
TZOFFSETFROM:+0100
TZOFFSETTO:+0000
TZNAME:GMT
DTSTART:20191027T010000
END:STANDARD
BEGIN:DAYLIGHT
TZOFFSETFROM:+0000
TZOFFSETTO:+0100
TZNAME:BST
DTSTART:20200329T010000
END:DAYLIGHT
BEGIN:STANDARD
TZOFFSETFROM:+0100
TZOFFSETTO:+0000
TZNAME:GMT
DTSTART:20201025T010000
END:STANDARD
END:VTIMEZONE
BEGIN:VEVENT
DTSTART;VALUE=DATE:20190929
DTEND;VALUE=DATE:20200114
DTSTAMP:20260422T053842
CREATED:20190906T140131Z
LAST-MODIFIED:20190906T140131Z
UID:1094248-1569733200-1578891599@www.funkidslive.com
SUMMARY:The Royal Opera House Family Sundays
DESCRIPTION:﻿\nThe Royal Opera House are hosting a family get-together! The fun-filled days are packed with pop-up performances\, prop making\, live make-up and stage combat demonstrations and loads more. \n   You can try your hand at dressing up\, singing\, dancing and performing! There’s lots to see and do and the days are perfect for all the family. Whether you’re a fan already or taking your first steps in discovering the worlds of opera or ballet\, we’re sure you’ll have a fun-filled day out that brings these things to life! Click here to find out more!
URL:https://www.funkidslive.com/event/the-royal-opera-house-family-sundays/
LOCATION:Royal Opera House\, Bow Street\, London\, WC2E 9DD\, United Kingdom
CATEGORIES:Days Out
END:VEVENT
END:VCALENDAR