BEGIN:VCALENDAR
VERSION:2.0
PRODID:-//Fun Kids - the UK&#039;s children&#039;s radio station - ECPv6.9.0//NONSGML v1.0//EN
CALSCALE:GREGORIAN
METHOD:PUBLISH
X-WR-CALNAME:Fun Kids - the UK&#039;s children&#039;s radio station
X-ORIGINAL-URL:https://www.funkidslive.com
X-WR-CALDESC:Events for Fun Kids - the UK&#039;s children&#039;s radio station
REFRESH-INTERVAL;VALUE=DURATION:PT1H
X-Robots-Tag:noindex
X-PUBLISHED-TTL:PT1H
BEGIN:VTIMEZONE
TZID:Europe/London
BEGIN:DAYLIGHT
TZOFFSETFROM:+0000
TZOFFSETTO:+0100
TZNAME:BST
DTSTART:20200329T010000
END:DAYLIGHT
BEGIN:STANDARD
TZOFFSETFROM:+0100
TZOFFSETTO:+0000
TZNAME:GMT
DTSTART:20201025T010000
END:STANDARD
END:VTIMEZONE
BEGIN:VEVENT
DTSTART;VALUE=DATE:20200901
DTEND;VALUE=DATE:20200902
DTSTAMP:20260423T062234
CREATED:20200728T092141Z
LAST-MODIFIED:20200728T092141Z
UID:1098721-1598936400-1598936400@www.funkidslive.com
SUMMARY:The World Big Dog Walk Challenge
DESCRIPTION:The 2020 Virtual Dog Walk – the World Big Dog Walk Challenge will take place in September 2020 and aims to raise thousands of pounds for dog-related charities\, whilst not compromising the safety of those involved. \nDog walkers from all over the world will complete their walks independently\, getting involved via the World Big Dog Walk. \nWalkers can choose to walk wherever and with whomever they like. \nIt is free to get involved and all money raised will go directly to charities that support dogs in need. \nDog walkers can make pledges to walk a certain distance or raise a target amount for one of the canine charities featured on the website\, or a charity of their choice\, examples include Pets as Therapy\, Mayhew or Streetvet. \nFind out more here
URL:https://www.funkidslive.com/event/the-world-big-dog-walk-challenge/
END:VEVENT
END:VCALENDAR