BEGIN:VCALENDAR
VERSION:2.0
PRODID:-//Fun Kids - the UK&#039;s children&#039;s radio station - ECPv6.9.0//NONSGML v1.0//EN
CALSCALE:GREGORIAN
METHOD:PUBLISH
X-WR-CALNAME:Fun Kids - the UK&#039;s children&#039;s radio station
X-ORIGINAL-URL:https://www.funkidslive.com
X-WR-CALDESC:Events for Fun Kids - the UK&#039;s children&#039;s radio station
REFRESH-INTERVAL;VALUE=DURATION:PT1H
X-Robots-Tag:noindex
X-PUBLISHED-TTL:PT1H
BEGIN:VTIMEZONE
TZID:Europe/London
BEGIN:DAYLIGHT
TZOFFSETFROM:+0000
TZOFFSETTO:+0100
TZNAME:BST
DTSTART:20170326T010000
END:DAYLIGHT
BEGIN:STANDARD
TZOFFSETFROM:+0100
TZOFFSETTO:+0000
TZNAME:GMT
DTSTART:20171029T010000
END:STANDARD
END:VTIMEZONE
BEGIN:VEVENT
DTSTART;TZID=Europe/London:20170615T100000
DTEND;TZID=Europe/London:20170930T170000
DTSTAMP:20260422T010126
CREATED:20170615T102553Z
LAST-MODIFIED:20170718T192940Z
UID:1078256-1497520800-1506790800@www.funkidslive.com
SUMMARY:Uncover the secret life of butterflies in this huge butterfly exhibit\, Sensational Butterflies at the Natural History Museum
DESCRIPTION:Come face to face with hundreds of fluttering butterflies in the Natural History Museum’s Sensational Butterflies tropical house! \nThere are loads of colourful butterflies from all over the world! From Africa\, Asia\, America\, and more! They all fly freely in this huge family exhibit\, now in its ninth year. \n \nYou’ll get to see the remarkable life cycle of the intriguing insect\, from a crawling caterpillar to beautiful butterfly! \nStudy as they eat at the feeding station and use one of the magnifiers to admire their beautiful wings… \nClick here to find out more at the Natural History Museum’s website!
URL:https://www.funkidslive.com/event/uncover-secret-life-butterflies-huge-butterfly-exhibit-sensational-butterflies-natural-history-museum/
LOCATION:Natural History Museum\, London\, Natural History Museum\, East Lawn\, Exhibition Rd\, London\, SW7 5BD\, United Kingdom
CATEGORIES:Days Out
GEO:51.4961914;-0.174517
X-APPLE-STRUCTURED-LOCATION;VALUE=URI;X-ADDRESS=Natural History Museum London Natural History Museum East Lawn Exhibition Rd London SW7 5BD United Kingdom;X-APPLE-RADIUS=500;X-TITLE=Natural History Museum\, East Lawn\, Exhibition Rd:geo:-0.174517,51.4961914
END:VEVENT
END:VCALENDAR