BEGIN:VCALENDAR
VERSION:2.0
PRODID:-//Fun Kids - the UK&#039;s children&#039;s radio station - ECPv6.9.0//NONSGML v1.0//EN
CALSCALE:GREGORIAN
METHOD:PUBLISH
X-WR-CALNAME:Fun Kids - the UK&#039;s children&#039;s radio station
X-ORIGINAL-URL:https://www.funkidslive.com
X-WR-CALDESC:Events for Fun Kids - the UK&#039;s children&#039;s radio station
REFRESH-INTERVAL;VALUE=DURATION:PT1H
X-Robots-Tag:noindex
X-PUBLISHED-TTL:PT1H
BEGIN:VTIMEZONE
TZID:Europe/London
BEGIN:DAYLIGHT
TZOFFSETFROM:+0000
TZOFFSETTO:+0100
TZNAME:BST
DTSTART:20180325T010000
END:DAYLIGHT
BEGIN:STANDARD
TZOFFSETFROM:+0100
TZOFFSETTO:+0000
TZNAME:GMT
DTSTART:20181028T010000
END:STANDARD
END:VTIMEZONE
BEGIN:VEVENT
DTSTART;VALUE=DATE:20180203
DTEND;VALUE=DATE:20180206
DTSTAMP:20260421T231230
CREATED:20180130T121732Z
LAST-MODIFIED:20180130T121900Z
UID:1086378-1517634000-1517806799@www.funkidslive.com
SUMMARY:Visit the Great British Sports Show at Exeter's Westpoint Arena this February!
DESCRIPTION:Would you like to dance with a dance troop\, or get your skills to be seen by local talent scouts? \nCan you jump an Olympic size hurdle\, rugby tackle a mascot\, shoot more than 5 hoops in a row at basketball or netball? \nCan you do more kick ups than a professional footballer? \nWould you like the chance to meet your sporting heroes\, team mascots\, local clubs and some other very special guests? \nNow is the time! \n \nIf you live in the South West of the UK\, you’ve got the chance to try out as many different sports as you can at the Great British Sports Show! \nIt’s the ultimate sports festival and is at Exeter’s Westpoint Arena in February. \nThere are also photo opportunities galore and “give-aways” and prizes to win on the day. So if you love sport and fancy a fun day out with the family\, The Great British Sports Show is definitely for you! \nClick here to get your tickets! \nKeep an eye out\, because the event is also scheduled to come to Exeter\, Cardiff\, Manchester\, Silverstone\, London\, and Sheffield!
URL:https://www.funkidslive.com/event/visit-great-british-sports-show-exeters-westpoint-arena-february/
LOCATION:Westpoint Arena\, Clyst St Mary\, Exeter\, EX5 1DJ\, United Kingdom
CATEGORIES:Days Out
END:VEVENT
END:VCALENDAR