BEGIN:VCALENDAR
VERSION:2.0
PRODID:-//Fun Kids - the UK&#039;s children&#039;s radio station - ECPv6.9.0//NONSGML v1.0//EN
CALSCALE:GREGORIAN
METHOD:PUBLISH
X-WR-CALNAME:Fun Kids - the UK&#039;s children&#039;s radio station
X-ORIGINAL-URL:https://www.funkidslive.com
X-WR-CALDESC:Events for Fun Kids - the UK&#039;s children&#039;s radio station
REFRESH-INTERVAL;VALUE=DURATION:PT1H
X-Robots-Tag:noindex
X-PUBLISHED-TTL:PT1H
BEGIN:VTIMEZONE
TZID:Europe/London
BEGIN:DAYLIGHT
TZOFFSETFROM:+0000
TZOFFSETTO:+0100
TZNAME:BST
DTSTART:20170326T010000
END:DAYLIGHT
BEGIN:STANDARD
TZOFFSETFROM:+0100
TZOFFSETTO:+0000
TZNAME:GMT
DTSTART:20171029T010000
END:STANDARD
END:VTIMEZONE
BEGIN:VEVENT
DTSTART;VALUE=DATE:20171014
DTEND;VALUE=DATE:20171017
DTSTAMP:20260421T070717
CREATED:20171006T135326Z
LAST-MODIFIED:20171006T135326Z
UID:1082729-1507957200-1508129999@www.funkidslive.com
SUMMARY:Visit this Play Expo in Manchester!
DESCRIPTION:If you love gaming\, one of the biggest gaming shows in the UK is coming to Manchester this month! \nYou can play the latest games and even some ones that haven’t been released yet! \nThere’s also incredible virtual reality experiences to try from PlayStation\, HTC and Oculus Rift. \nClick here to find out more! \nIn the Minecraft Zone\, there’s going to a Hunger Games-style challenge where you’ll have to fight it out to survive! \nThe maps are based on the Hunger Games books and films and you’ll be trying to be the last one standing. \nPlus\, there’ll be loads of retro consoles on display where you can play old school games\, like Tomb Raider and Pinball! \nIt’s on Saturday and Sunday at EventCity in Manchester.
URL:https://www.funkidslive.com/event/visit-play-expo-manchester/
CATEGORIES:Exhibition
END:VEVENT
END:VCALENDAR