BEGIN:VCALENDAR
VERSION:2.0
PRODID:-//Fun Kids - the UK&#039;s children&#039;s radio station - ECPv6.9.0//NONSGML v1.0//EN
CALSCALE:GREGORIAN
METHOD:PUBLISH
X-WR-CALNAME:Fun Kids - the UK&#039;s children&#039;s radio station
X-ORIGINAL-URL:https://www.funkidslive.com
X-WR-CALDESC:Events for Fun Kids - the UK&#039;s children&#039;s radio station
REFRESH-INTERVAL;VALUE=DURATION:PT1H
X-Robots-Tag:noindex
X-PUBLISHED-TTL:PT1H
BEGIN:VTIMEZONE
TZID:Europe/London
BEGIN:DAYLIGHT
TZOFFSETFROM:+0000
TZOFFSETTO:+0100
TZNAME:BST
DTSTART:20170326T010000
END:DAYLIGHT
BEGIN:STANDARD
TZOFFSETFROM:+0100
TZOFFSETTO:+0000
TZNAME:GMT
DTSTART:20171029T010000
END:STANDARD
END:VTIMEZONE
BEGIN:VEVENT
DTSTART;TZID=Europe/London:20170713T103000
DTEND;TZID=Europe/London:20170831T160000
DTSTAMP:20260421T161917
CREATED:20170713T085101Z
LAST-MODIFIED:20170713T104119Z
UID:1079524-1499941800-1504195200@www.funkidslive.com
SUMMARY:Visit Vauxhall City Farm and learn how to take care of animals!
DESCRIPTION:If you love animals\, you’re in for a treat this summer at Vauxhall City Farm! \nThey’re hosting free drop in sessions every Wednesday and Thursday over the summer holidays. \nPlay hide and seek with the hens\, have a go at the greedy goat game or sniff some ferrets (gross!)! \nThe events give you the chance to learn how to keep animals happy and healthy. \nClick here for more information \nVauxhall City Farm covers almost an acre and features a garden\, allotments\, wildlife ponds and animal enclosures! \nAs well as all the free drop in sessions\, there’s also the chance for children to see what it’s like to be a farmer for the day and gain work experience at the farm. \nGet stuck into a range of activities such as mucking out\, grooming\, performing health checks on the animals\, feeding and even making butter! \nActivities are free\, although there is a £1.00 donation for a membership card. \n 
URL:https://www.funkidslive.com/event/visit-vauxhall-city-farm-learn-take-care-animals/
LOCATION:Vauxhall City Farm\, St Oswald's Place\, London\, SE11 5JE\, United Kingdom
CATEGORIES:Days Out
GEO:51.4875763;-0.118729
X-APPLE-STRUCTURED-LOCATION;VALUE=URI;X-ADDRESS=Vauxhall City Farm St Oswald's Place London SE11 5JE United Kingdom;X-APPLE-RADIUS=500;X-TITLE=St Oswald's Place:geo:-0.118729,51.4875763
END:VEVENT
END:VCALENDAR