BEGIN:VCALENDAR
VERSION:2.0
PRODID:-//Fun Kids - the UK&#039;s children&#039;s radio station - ECPv6.9.0//NONSGML v1.0//EN
CALSCALE:GREGORIAN
METHOD:PUBLISH
X-WR-CALNAME:Fun Kids - the UK&#039;s children&#039;s radio station
X-ORIGINAL-URL:https://www.funkidslive.com
X-WR-CALDESC:Events for Fun Kids - the UK&#039;s children&#039;s radio station
REFRESH-INTERVAL;VALUE=DURATION:PT1H
X-Robots-Tag:noindex
X-PUBLISHED-TTL:PT1H
BEGIN:VTIMEZONE
TZID:Europe/London
BEGIN:DAYLIGHT
TZOFFSETFROM:+0000
TZOFFSETTO:+0100
TZNAME:BST
DTSTART:20180325T010000
END:DAYLIGHT
BEGIN:STANDARD
TZOFFSETFROM:+0100
TZOFFSETTO:+0000
TZNAME:GMT
DTSTART:20181028T010000
END:STANDARD
END:VTIMEZONE
BEGIN:VEVENT
DTSTART;VALUE=DATE:20180514
DTEND;VALUE=DATE:20181106
DTSTAMP:20260421T163006
CREATED:20180514T144042Z
LAST-MODIFIED:20180514T144042Z
UID:1088523-1526274000-1541393999@www.funkidslive.com
SUMMARY:Walk amongst monkeys at Trentham Monkey Forest and enjoy a day out with a difference!
DESCRIPTION:Enter the home of 140 free-roaming Barbary macaques\, living in an ancient Staffordshire woodland. \nWander along the ¾ mile visitor path and watch the monkeys’ antics unfold in front of you. \n \nListen to hourly feedings talks\, visit The Jungle Shop and have a bite to eat in The Banana Café. There are also multiple play areas for your little monkeys! \nMonkey Forest is the perfect day out for all the family to enjoy. \n \nSee the Monkey Forest website for seasonal opening times\, dates and prices. \nClick here to visit the Monkey Forest website!
URL:https://www.funkidslive.com/event/walk-amongst-monkeys-at-trentham-monkey-forest-and-enjoy-a-day-out-with-a-difference/
LOCATION:Monkey Forest Trentham\, Stone Road\, Trentham\, Stoke-on-Trent\, ST12 9HR\, United Kingdom
CATEGORIES:Days Out
END:VEVENT
END:VCALENDAR