BEGIN:VCALENDAR
VERSION:2.0
PRODID:-//Fun Kids - the UK&#039;s children&#039;s radio station - ECPv6.9.0//NONSGML v1.0//EN
CALSCALE:GREGORIAN
METHOD:PUBLISH
X-WR-CALNAME:Fun Kids - the UK&#039;s children&#039;s radio station
X-ORIGINAL-URL:https://www.funkidslive.com
X-WR-CALDESC:Events for Fun Kids - the UK&#039;s children&#039;s radio station
REFRESH-INTERVAL;VALUE=DURATION:PT1H
X-Robots-Tag:noindex
X-PUBLISHED-TTL:PT1H
BEGIN:VTIMEZONE
TZID:Europe/London
BEGIN:DAYLIGHT
TZOFFSETFROM:+0000
TZOFFSETTO:+0100
TZNAME:BST
DTSTART:20240331T010000
END:DAYLIGHT
BEGIN:STANDARD
TZOFFSETFROM:+0100
TZOFFSETTO:+0000
TZNAME:GMT
DTSTART:20241027T010000
END:STANDARD
END:VTIMEZONE
BEGIN:VEVENT
DTSTART;VALUE=DATE:20241026
DTEND;VALUE=DATE:20241105
DTSTAMP:20260422T033434
CREATED:20241025T100333Z
LAST-MODIFIED:20241025T100333Z
UID:1122357-1729918800-1730696399@www.funkidslive.com
SUMMARY:Weymouth Zombie Treasure Hunt
DESCRIPTION:This week in Weymouth there’s some spooky goings on with a free Zombie treasure hunt.  \nSeafood Sally has stolen the Pirate Lord’s golden doubloons and he needs your help to find them them.  \nweareweymouth.co.uk has more details.
URL:https://www.funkidslive.com/event/weymouth-zombie-treasure-hunt/
END:VEVENT
END:VCALENDAR