BEGIN:VCALENDAR
VERSION:2.0
PRODID:-//Fun Kids - the UK&#039;s children&#039;s radio station - ECPv6.9.0//NONSGML v1.0//EN
CALSCALE:GREGORIAN
METHOD:PUBLISH
X-WR-CALNAME:Fun Kids - the UK&#039;s children&#039;s radio station
X-ORIGINAL-URL:https://www.funkidslive.com
X-WR-CALDESC:Events for Fun Kids - the UK&#039;s children&#039;s radio station
REFRESH-INTERVAL;VALUE=DURATION:PT1H
X-Robots-Tag:noindex
X-PUBLISHED-TTL:PT1H
BEGIN:VTIMEZONE
TZID:Europe/London
BEGIN:DAYLIGHT
TZOFFSETFROM:+0000
TZOFFSETTO:+0100
TZNAME:BST
DTSTART:20200329T010000
END:DAYLIGHT
BEGIN:STANDARD
TZOFFSETFROM:+0100
TZOFFSETTO:+0000
TZNAME:GMT
DTSTART:20201025T010000
END:STANDARD
END:VTIMEZONE
BEGIN:VEVENT
DTSTART;VALUE=DATE:20200717
DTEND;VALUE=DATE:20210101
DTSTAMP:20260422T194950
CREATED:20200717T145416Z
LAST-MODIFIED:20200717T145416Z
UID:1098595-1594962000-1609390799@www.funkidslive.com
SUMMARY:ZSL London Zoo
DESCRIPTION:London Zoo have worked hard to put safety measures in place at their Zoos\, offering an open-air opportunity to see amazing animals and to reconnect with nature. \nThey have implemented several new precautions and followed Government advice so that we can provide a safe and enjoyable visit for everyone. \nA really great day out makes a real difference. Every ticket bought helps London Zoo to continue vital conservation work around the world. \nDiscover the different routes around the Zoo and where to find your favourite animals. You can also find the full animal inventory here. \nBook your London Zoo ticket today! \nBook your ticket here
URL:https://www.funkidslive.com/event/zsl-london-zoo/
END:VEVENT
END:VCALENDAR